FILENAME: O4710445.SES.1160656.tif
QUADRANGLE_NAME: SAVAGE SW
QUADRANT: SE
WEST_LONGITUDE: -104 26 15.00000
EAST_LONGITUDE: -104 22 30.00000
NORTH_LATITUDE: 47 18 45.00000
SOUTH_LATITUDE: 47 15 0.00000
PRODUCTION_DATE: 2001 9 20
RASTER_ORDER: LEFT_RIGHT/TOP_BOTTOM
BAND_ORGANIZATION: SINGLE FILE
BAND_CONTENT: BLACK&WHITE
BAND_CONTENT: UNDEFINED
BAND_CONTENT: UNDEFINED
BITS_PER_PIXEL: 8
SAMPLES_AND_LINES: 5428 7594
HORIZONTAL_DATUM: NAD83
HORIZONTAL_COORDINATE_SYSTEM: UTM
COORDINATE_ZONE: 13
HORIZONTAL_UNITS: meters
HORIZONTAL_RESOLUTION: 1.00000
SECONDARY_HORIZONTAL_DATUM: NAD27
XY_ORIGIN: 542171.00000 5240388.00000
SECONDARY_XY_ORIGIN: 542210.34100 5240168.00000
NATION: US
STATE: MT
NW_QUAD_CORNER_XY: 542514.35100 5240045.45700
NE_QUAD_CORNER_XY: 547238.15400 5240081.44200
SE_QUAD_CORNERY_XY: 547293.82100 5233135.73300
SW_QUAD_CORNER_XY: 542564.45100 5233099.74300
SECONDARY_NW_QUAD_XY: 542515.67000 5239826.79600
SECONDARY_NE_QUAD_XY: 547239.61900 5239862.78200
SECONDARY_SE_QUAD_XY: 547295.28600 5232917.09700
SECONDARY_SW_QUAD_XY: 542565.77000 5232881.10600
RMSE_XY: 2.24000
IMAGE_SOURCE: BLACK AND WHITE FILM
SOURCE_IMAGE_ID: NAPP 9103-026
SOURCE_IMAGE_DATE: 1996 7 15
SOURCE_IMAGE_ID: NAPP 9103-027
SOURCE_IMAGE_DATE: 1996 7 15
SOURCE_IMAGE_ID: NAPP 9103-025
SOURCE_IMAGE_DATE: 1996 7 15
SOURCE_IMAGE_ID: NAPP 9108-099
SOURCE_IMAGE_DATE: 1996 8 8
SOURCE_DEM_DATE: 1999 0 0
AGENCY: WESTERN MAPPING CENTER (WMC)
PRODUCER: WOOLPERT LLP
PRODUCTION_SYSTEM: INTERGRAPH ISPM, ISIR
COMPRESSION: UNDEFINED
STANDARD_VERSION: 1996 12
METADATA_DATE: 2001 10 3
DATA_FILE_SIZE: 41225660
BYTE_COUNT: 5428
