FILENAME: O4710446.SWS.1160669.tif
QUADRANGLE_NAME: SAVAGE SE
QUADRANT: SW
WEST_LONGITUDE: -104 22 30.00000
EAST_LONGITUDE: -104 18 45.00000
NORTH_LATITUDE: 47 18 45.00000
SOUTH_LATITUDE: 47 15 0.00000
PRODUCTION_DATE: 2001 9 20
RASTER_ORDER: LEFT_RIGHT/TOP_BOTTOM
BAND_ORGANIZATION: SINGLE FILE
BAND_CONTENT: BLACK&WHITE
BAND_CONTENT: UNDEFINED
BAND_CONTENT: UNDEFINED
BITS_PER_PIXEL: 8
SAMPLES_AND_LINES: 5434 7598
HORIZONTAL_DATUM: NAD83
HORIZONTAL_COORDINATE_SYSTEM: UTM
COORDINATE_ZONE: 13
HORIZONTAL_UNITS: meters
HORIZONTAL_RESOLUTION: 1.00000
SECONDARY_HORIZONTAL_DATUM: NAD27
XY_ORIGIN: 546895.00000 5240428.00000
SECONDARY_XY_ORIGIN: 546934.26900 5240208.00300
NATION: US
STATE: MT
NW_QUAD_CORNER_XY: 547238.15400 5240081.44200
NE_QUAD_CORNER_XY: 551961.95200 5240121.21400
SE_QUAD_CORNERY_XY: 552023.18600 5233175.51200
SW_QUAD_CORNER_XY: 547293.82100 5233135.73300
SECONDARY_NW_QUAD_XY: 547239.61900 5239862.78200
SECONDARY_NE_QUAD_XY: 551963.56400 5239902.55500
SECONDARY_SE_QUAD_XY: 552024.79800 5232956.87800
SECONDARY_SW_QUAD_XY: 547295.28600 5232917.09700
RMSE_XY: 2.41000
IMAGE_SOURCE: BLACK AND WHITE FILM
SOURCE_IMAGE_ID: NAPP 9095-066
SOURCE_IMAGE_DATE: 1996 7 9
SOURCE_IMAGE_ID: NAPP 9095-065
SOURCE_IMAGE_DATE: 1996 7 9
SOURCE_DEM_DATE: 1999 0 0
AGENCY: WESTERN MAPPING CENTER (WMC)
PRODUCER: WOOLPERT LLP
PRODUCTION_SYSTEM: INTERGRAPH ISPM, ISIR
COMPRESSION: UNDEFINED
STANDARD_VERSION: 1996 12
METADATA_DATE: 2001 10 3
DATA_FILE_SIZE: 41292966
BYTE_COUNT: 5434
