FILENAME: O4710446.NWS.1160667.tif
QUADRANGLE_NAME: SAVAGE SE
QUADRANT: NW
WEST_LONGITUDE: -104 22 30.00000
EAST_LONGITUDE: -104 18 45.00000
NORTH_LATITUDE: 47 22 30.00000
SOUTH_LATITUDE: 47 18 45.00000
PRODUCTION_DATE: 2001 9 20
RASTER_ORDER: LEFT_RIGHT/TOP_BOTTOM
BAND_ORGANIZATION: SINGLE FILE
BAND_CONTENT: BLACK&WHITE
BAND_CONTENT: UNDEFINED
BAND_CONTENT: UNDEFINED
BITS_PER_PIXEL: 8
SAMPLES_AND_LINES: 5428 7598
HORIZONTAL_DATUM: NAD83
HORIZONTAL_COORDINATE_SYSTEM: UTM
COORDINATE_ZONE: 13
HORIZONTAL_UNITS: meters
HORIZONTAL_RESOLUTION: 1.00000
SECONDARY_HORIZONTAL_DATUM: NAD27
XY_ORIGIN: 546839.00000 5247374.00000
SECONDARY_XY_ORIGIN: 546878.23700 5247153.95200
NATION: US
STATE: MT
NW_QUAD_CORNER_XY: 547182.43000 5247027.22600
NE_QUAD_CORNER_XY: 551900.65600 5247066.99100
SE_QUAD_CORNERY_XY: 551961.95200 5240121.21400
SW_QUAD_CORNER_XY: 547238.15400 5240081.44200
SECONDARY_NW_QUAD_XY: 547183.89600 5246808.54200
SECONDARY_NE_QUAD_XY: 551902.26800 5246848.30800
SECONDARY_SE_QUAD_XY: 551963.56400 5239902.55500
SECONDARY_SW_QUAD_XY: 547239.61900 5239862.78200
RMSE_XY: 2.22000
IMAGE_SOURCE: BLACK AND WHITE FILM
SOURCE_IMAGE_ID: NAPP 9095-068
SOURCE_IMAGE_DATE: 1996 7 9
SOURCE_IMAGE_ID: NAPP 9095-069
SOURCE_IMAGE_DATE: 1996 7 9
SOURCE_IMAGE_ID: NAPP 9103-027
SOURCE_IMAGE_DATE: 1996 7 15
SOURCE_IMAGE_ID: NAPP 9124-051
SOURCE_IMAGE_DATE: 1997 8 22
SOURCE_DEM_DATE: 1999 0 0
AGENCY: WESTERN MAPPING CENTER (WMC)
PRODUCER: WOOLPERT LLP
PRODUCTION_SYSTEM: INTERGRAPH ISPM, ISIR
COMPRESSION: UNDEFINED
STANDARD_VERSION: 1996 12
METADATA_DATE: 2001 10 3
DATA_FILE_SIZE: 41247372
BYTE_COUNT: 5428
