FILENAME: O4710447.NES.1159434.tif
QUADRANGLE_NAME: PARSON CREEK
QUADRANT: NE
WEST_LONGITUDE: -104 11 15.00000
EAST_LONGITUDE: -104 7 30.00000
NORTH_LATITUDE: 47 22 30.00000
SOUTH_LATITUDE: 47 18 45.00000
PRODUCTION_DATE: 2001 9 16
RASTER_ORDER: LEFT_RIGHT/TOP_BOTTOM
BAND_ORGANIZATION: SINGLE FILE
BAND_CONTENT: BLACK&WHITE
BAND_CONTENT: UNDEFINED
BAND_CONTENT: UNDEFINED
BITS_PER_PIXEL: 8
SAMPLES_AND_LINES: 5445 7609
HORIZONTAL_DATUM: NAD83
HORIZONTAL_COORDINATE_SYSTEM: UTM
COORDINATE_ZONE: 13
HORIZONTAL_UNITS: meters
HORIZONTAL_RESOLUTION: 1.00000
SECONDARY_HORIZONTAL_DATUM: NAD27
XY_ORIGIN: 560994.00000 5247516.00000
SECONDARY_XY_ORIGIN: 561033.04800 5247295.98100
NATION: US
STATE: MT
NW_QUAD_CORNER_XY: 561337.09100 5247157.88400
NE_QUAD_CORNER_XY: 566055.30000 5247209.01300
SE_QUAD_CORNERY_XY: 566133.31600 5240263.26100
SW_QUAD_CORNER_XY: 561409.53300 5240212.12300
SECONDARY_NW_QUAD_XY: 561338.99600 5246939.20500
SECONDARY_NE_QUAD_XY: 566057.35200 5246990.33400
SECONDARY_SE_QUAD_XY: 566135.36700 5240044.60600
SECONDARY_SW_QUAD_XY: 561411.43800 5239993.46700
RMSE_XY: 2.36000
IMAGE_SOURCE: BLACK AND WHITE FILM
SOURCE_IMAGE_ID: NAPP 9123-113
SOURCE_IMAGE_DATE: 1997 8 3
SOURCE_IMAGE_ID: NAPP 8631-057
SOURCE_IMAGE_DATE: 1995 7 28
SOURCE_IMAGE_ID: NAPP 9123-219
SOURCE_IMAGE_DATE: 1997 8 3
SOURCE_DEM_DATE: 2001 1 1
AGENCY: WESTERN MAPPING CENTER (WMC)
PRODUCER: WOOLPERT LLP
PRODUCTION_SYSTEM: INTERGRAPH ISPM, ISIR
COMPRESSION: UNDEFINED
STANDARD_VERSION: 1996 12
METADATA_DATE: 2001 9 18
DATA_FILE_SIZE: 41436450
BYTE_COUNT: 5445
