FILENAME: O4710449.SES.1163694.tif
QUADRANGLE_NAME: POVERTY FLAT WEST
QUADRANT: SE
WEST_LONGITUDE: -104 56 15.00000
EAST_LONGITUDE: -104 52 30.00000
NORTH_LATITUDE: 47 11 15.00000
SOUTH_LATITUDE: 47 7 30.00000
PRODUCTION_DATE: 2001 8 28
RASTER_ORDER: LEFT_RIGHT/TOP_BOTTOM
BAND_ORGANIZATION: SINGLE FILE
BAND_CONTENT: BLACK&WHITE
BAND_CONTENT: UNDEFINED
BAND_CONTENT: UNDEFINED
BITS_PER_PIXEL: 8
SAMPLES_AND_LINES: 5397 7564
HORIZONTAL_DATUM: NAD83
HORIZONTAL_COORDINATE_SYSTEM: UTM
COORDINATE_ZONE: 13
HORIZONTAL_UNITS: meters
HORIZONTAL_RESOLUTION: 1.00000
SECONDARY_HORIZONTAL_DATUM: NAD27
XY_ORIGIN: 504390.00000 5226315.00000
SECONDARY_XY_ORIGIN: 504429.97300 5226095.10600
NATION: US
STATE: MT
NW_QUAD_CORNER_XY: 504734.95000 5226002.54200
NE_QUAD_CORNER_XY: 509469.90000 5226008.22600
SE_QUAD_CORNERY_XY: 509481.01000 5219062.63800
SW_QUAD_CORNER_XY: 504740.50500 5219056.95400
SECONDARY_NW_QUAD_XY: 504735.09700 5225783.92600
SECONDARY_NE_QUAD_XY: 509470.19300 5225789.61000
SECONDARY_SE_QUAD_XY: 509481.30300 5218844.04900
SECONDARY_SW_QUAD_XY: 504740.65200 5218838.36400
RMSE_XY: 2.14000
IMAGE_SOURCE: BLACK AND WHITE FILM
SOURCE_IMAGE_ID: NAPP 9081-154
SOURCE_IMAGE_DATE: 1996 6 12
SOURCE_IMAGE_ID: NAPP 9081-155
SOURCE_IMAGE_DATE: 1996 6 12
SOURCE_DEM_DATE: 1999 0 0
AGENCY: WESTERN MAPPING CENTER (WMC)
PRODUCER: WOOLPERT LLP
PRODUCTION_SYSTEM: INTERGRAPH ISPM, ISIR
COMPRESSION: UNDEFINED
STANDARD_VERSION: 1996 12
METADATA_DATE: 2001 8 31
DATA_FILE_SIZE: 40828305
BYTE_COUNT: 5397
