FILENAME: O4710449.NWS.1163693.tif
QUADRANGLE_NAME: POVERTY FLAT WEST
QUADRANT: NW
WEST_LONGITUDE: -105 0 0.00000
EAST_LONGITUDE: -104 56 15.00000
NORTH_LATITUDE: 47 15 0.00000
SOUTH_LATITUDE: 47 11 15.00000
PRODUCTION_DATE: 2001 8 28
RASTER_ORDER: LEFT_RIGHT/TOP_BOTTOM
BAND_ORGANIZATION: SINGLE FILE
BAND_CONTENT: BLACK&WHITE
BAND_CONTENT: UNDEFINED
BAND_CONTENT: UNDEFINED
BITS_PER_PIXEL: 8
SAMPLES_AND_LINES: 5386 7560
HORIZONTAL_DATUM: NAD83
HORIZONTAL_COORDINATE_SYSTEM: UTM
COORDINATE_ZONE: 13
HORIZONTAL_UNITS: meters
HORIZONTAL_RESOLUTION: 1.00000
SECONDARY_HORIZONTAL_DATUM: NAD27
XY_ORIGIN: 499654.00000 5233255.00000
SECONDARY_XY_ORIGIN: 499694.00100 5233035.02900
NATION: US
STATE: MT
NW_QUAD_CORNER_XY: 500000.00000 5232946.31300
NE_QUAD_CORNER_XY: 504729.38900 5232948.20700
SE_QUAD_CORNERY_XY: 504734.95000 5226002.54200
SW_QUAD_CORNER_XY: 500000.00000 5226000.64800
SECONDARY_NW_QUAD_XY: 500000.00000 5232727.67100
SECONDARY_NE_QUAD_XY: 504729.53600 5232729.56500
SECONDARY_SE_QUAD_XY: 504735.09700 5225783.92600
SECONDARY_SW_QUAD_XY: 500000.00000 5225782.03200
RMSE_XY: 1.82000
IMAGE_SOURCE: BLACK AND WHITE FILM
SOURCE_IMAGE_ID: NAPP 9096-085
SOURCE_IMAGE_DATE: 1996 7 9
SOURCE_DEM_DATE: 1999 0 0
AGENCY: WESTERN MAPPING CENTER (WMC)
PRODUCER: WOOLPERT LLP
PRODUCTION_SYSTEM: INTERGRAPH ISPM, ISIR
COMPRESSION: UNDEFINED
STANDARD_VERSION: 1996 12
METADATA_DATE: 2001 8 28
DATA_FILE_SIZE: 40723546
BYTE_COUNT: 5386
