FILENAME: O4710451.SWS.1160718.tif
QUADRANGLE_NAME: STIPEK
QUADRANT: SW
WEST_LONGITUDE: -104 45 0.00000
EAST_LONGITUDE: -104 41 15.00000
NORTH_LATITUDE: 47 11 15.00000
SOUTH_LATITUDE: 47 7 30.00000
PRODUCTION_DATE: 2001 9 21
RASTER_ORDER: LEFT_RIGHT/TOP_BOTTOM
BAND_ORGANIZATION: SINGLE FILE
BAND_CONTENT: BLACK&WHITE
BAND_CONTENT: UNDEFINED
BAND_CONTENT: UNDEFINED
BITS_PER_PIXEL: 8
SAMPLES_AND_LINES: 5413 7575
HORIZONTAL_DATUM: NAD83
HORIZONTAL_COORDINATE_SYSTEM: UTM
COORDINATE_ZONE: 13
HORIZONTAL_UNITS: meters
HORIZONTAL_RESOLUTION: 1.00000
SECONDARY_HORIZONTAL_DATUM: NAD27
XY_ORIGIN: 518595.00000 5226355.00000
SECONDARY_XY_ORIGIN: 518634.77000 5226135.11100
NATION: US
STATE: MT
NW_QUAD_CORNER_XY: 518939.79600 5226030.96000
NE_QUAD_CORNER_XY: 523674.74200 5226048.01000
SE_QUAD_CORNERY_XY: 523702.51800 5219102.42900
SW_QUAD_CORNER_XY: 518962.01700 5219085.37600
SECONDARY_NW_QUAD_XY: 518940.38200 5225812.34500
SECONDARY_NE_QUAD_XY: 523675.47400 5225829.39600
SECONDARY_SE_QUAD_XY: 523703.25000 5218883.84100
SECONDARY_SW_QUAD_XY: 518962.60300 5218866.78700
RMSE_XY: 2.50000
IMAGE_SOURCE: BLACK AND WHITE FILM
SOURCE_IMAGE_ID: NAPP 9080-191
SOURCE_IMAGE_DATE: 1996 6 12
SOURCE_IMAGE_ID: NAPP 9081-025
SOURCE_IMAGE_DATE: 1996 6 12
SOURCE_DEM_DATE: 1999 0 0
AGENCY: WESTERN MAPPING CENTER (WMC)
PRODUCER: WOOLPERT LLP
PRODUCTION_SYSTEM: INTERGRAPH ISPM, ISIR
COMPRESSION: UNDEFINED
STANDARD_VERSION: 1996 12
METADATA_DATE: 2001 10 3
DATA_FILE_SIZE: 41008888
BYTE_COUNT: 5413
