FILENAME: O4710452.NWS.1160727.tif
QUADRANGLE_NAME: BELLE PRAIRIE
QUADRANT: NW
WEST_LONGITUDE: -104 37 30.00000
EAST_LONGITUDE: -104 33 45.00000
NORTH_LATITUDE: 47 15 0.00000
SOUTH_LATITUDE: 47 11 15.00000
PRODUCTION_DATE: 2001 9 21
RASTER_ORDER: LEFT_RIGHT/TOP_BOTTOM
BAND_ORGANIZATION: SINGLE FILE
BAND_CONTENT: BLACK&WHITE
BAND_CONTENT: UNDEFINED
BAND_CONTENT: UNDEFINED
BITS_PER_PIXEL: 8
SAMPLES_AND_LINES: 5418 7583
HORIZONTAL_DATUM: NAD83
HORIZONTAL_COORDINATE_SYSTEM: UTM
COORDINATE_ZONE: 13
HORIZONTAL_UNITS: meters
HORIZONTAL_RESOLUTION: 1.00000
SECONDARY_HORIZONTAL_DATUM: NAD27
XY_ORIGIN: 528032.00000 5233346.00000
SECONDARY_XY_ORIGIN: 528071.58800 5233126.04500
NATION: US
STATE: MT
NW_QUAD_CORNER_XY: 528376.32000 5233014.50300
NE_QUAD_CORNER_XY: 533105.70000 5233039.12800
SE_QUAD_CORNERY_XY: 533144.62700 5226093.47800
SW_QUAD_CORNER_XY: 528409.68600 5226068.85000
SECONDARY_NW_QUAD_XY: 528377.19900 5232795.86400
SECONDARY_NE_QUAD_XY: 533106.72600 5232820.48900
SECONDARY_SE_QUAD_XY: 533145.65200 5225874.86500
SECONDARY_SW_QUAD_XY: 528410.56500 5225850.23600
RMSE_XY: 2.31000
IMAGE_SOURCE: BLACK AND WHITE FILM
SOURCE_IMAGE_ID: NAPP 9108-046
SOURCE_IMAGE_DATE: 1996 8 8
SOURCE_DEM_DATE: 1999 0 0
AGENCY: WESTERN MAPPING CENTER (WMC)
PRODUCER: WOOLPERT LLP
PRODUCTION_SYSTEM: INTERGRAPH ISPM, ISIR
COMPRESSION: UNDEFINED
STANDARD_VERSION: 1996 12
METADATA_DATE: 2001 10 3
DATA_FILE_SIZE: 41090112
BYTE_COUNT: 5418
