FILENAME: O4710453.SWS.1159414.tif
QUADRANGLE_NAME: CLUSTER BUTTES NW
QUADRANT: SW
WEST_LONGITUDE: -104 30 0.00000
EAST_LONGITUDE: -104 26 15.00000
NORTH_LATITUDE: 47 11 15.00000
SOUTH_LATITUDE: 47 7 30.00000
PRODUCTION_DATE: 2001 9 15
RASTER_ORDER: LEFT_RIGHT/TOP_BOTTOM
BAND_ORGANIZATION: SINGLE FILE
BAND_CONTENT: BLACK&WHITE
BAND_CONTENT: UNDEFINED
BAND_CONTENT: UNDEFINED
BITS_PER_PIXEL: 8
SAMPLES_AND_LINES: 5434 7590
HORIZONTAL_DATUM: NAD83
HORIZONTAL_COORDINATE_SYSTEM: UTM
COORDINATE_ZONE: 13
HORIZONTAL_UNITS: meters
HORIZONTAL_RESOLUTION: 1.00000
SECONDARY_HORIZONTAL_DATUM: NAD27
XY_ORIGIN: 537536.00000 5226461.00000
SECONDARY_XY_ORIGIN: 537575.49300 5226241.13100
NATION: US
STATE: MT
NW_QUAD_CORNER_XY: 537879.56500 5226121.89600
NE_QUAD_CORNER_XY: 542614.50000 5226154.10300
SE_QUAD_CORNERY_XY: 542664.49800 5219208.53900
SW_QUAD_CORNER_XY: 537924.00700 5219176.32700
SECONDARY_NW_QUAD_XY: 537880.73700 5225903.28400
SECONDARY_NE_QUAD_XY: 542615.81800 5225935.49200
SECONDARY_SE_QUAD_XY: 542665.81600 5218989.95400
SECONDARY_SW_QUAD_XY: 537925.17900 5218957.74100
RMSE_XY: 1.25000
IMAGE_SOURCE: BLACK AND WHITE FILM
SOURCE_IMAGE_ID: NAPP 9108-094
SOURCE_IMAGE_DATE: 1996 8 8
SOURCE_IMAGE_ID: NAPP 9108-095
SOURCE_IMAGE_DATE: 1996 8 8
SOURCE_IMAGE_ID: NAPP 9108-093
SOURCE_IMAGE_DATE: 1996 8 8
SOURCE_DEM_DATE: 1999 0 0
AGENCY: WESTERN MAPPING CENTER (WMC)
PRODUCER: WOOLPERT LLP
PRODUCTION_SYSTEM: INTERGRAPH ISPM, ISIR
COMPRESSION: UNDEFINED
STANDARD_VERSION: 1996 12
METADATA_DATE: 2001 9 27
DATA_FILE_SIZE: 41249494
BYTE_COUNT: 5434
