FILENAME: O4710454.NWS.1159424.tif
QUADRANGLE_NAME: CLUSTER BUTTES
QUADRANT: NW
WEST_LONGITUDE: -104 22 30.00000
EAST_LONGITUDE: -104 18 45.00000
NORTH_LATITUDE: 47 15 0.00000
SOUTH_LATITUDE: 47 11 15.00000
PRODUCTION_DATE: 2001 9 15
RASTER_ORDER: LEFT_RIGHT/TOP_BOTTOM
BAND_ORGANIZATION: SINGLE FILE
BAND_CONTENT: BLACK&WHITE
BAND_CONTENT: UNDEFINED
BAND_CONTENT: UNDEFINED
BITS_PER_PIXEL: 8
SAMPLES_AND_LINES: 5440 7597
HORIZONTAL_DATUM: NAD83
HORIZONTAL_COORDINATE_SYSTEM: UTM
COORDINATE_ZONE: 13
HORIZONTAL_UNITS: meters
HORIZONTAL_RESOLUTION: 1.00000
SECONDARY_HORIZONTAL_DATUM: NAD27
XY_ORIGIN: 546950.00000 5233482.00000
SECONDARY_XY_ORIGIN: 546989.30000 5233262.05600
NATION: US
STATE: MT
NW_QUAD_CORNER_XY: 547293.82100 5233135.73300
NE_QUAD_CORNER_XY: 552023.18600 5233175.51200
SE_QUAD_CORNERY_XY: 552084.35800 5226229.88500
SW_QUAD_CORNER_XY: 547349.43100 5226190.10000
SECONDARY_NW_QUAD_XY: 547295.28600 5232917.09700
SECONDARY_NE_QUAD_XY: 552024.79800 5232956.87800
SECONDARY_SE_QUAD_XY: 552085.96900 5226011.27600
SECONDARY_SW_QUAD_XY: 547350.89600 5225971.48900
RMSE_XY: 1.36000
IMAGE_SOURCE: BLACK AND WHITE FILM
SOURCE_IMAGE_ID: NAPP 9095-064
SOURCE_IMAGE_DATE: 1996 7 9
SOURCE_IMAGE_ID: NAPP 9095-063
SOURCE_IMAGE_DATE: 1996 7 9
SOURCE_IMAGE_ID: NAPP 9095-065
SOURCE_IMAGE_DATE: 1996 7 9
SOURCE_DEM_DATE: 1999 0 0
AGENCY: WESTERN MAPPING CENTER (WMC)
PRODUCER: WOOLPERT LLP
PRODUCTION_SYSTEM: INTERGRAPH ISPM, ISIR
COMPRESSION: UNDEFINED
STANDARD_VERSION: 1996 12
METADATA_DATE: 2001 9 18
DATA_FILE_SIZE: 41333120
BYTE_COUNT: 5440
