FILENAME: O4710454.NES.1159423.tif
QUADRANGLE_NAME: CLUSTER BUTTES
QUADRANT: NE
WEST_LONGITUDE: -104 18 45.00000
EAST_LONGITUDE: -104 15 0.00000
NORTH_LATITUDE: 47 15 0.00000
SOUTH_LATITUDE: 47 11 15.00000
PRODUCTION_DATE: 2001 9 15
RASTER_ORDER: LEFT_RIGHT/TOP_BOTTOM
BAND_ORGANIZATION: SINGLE FILE
BAND_CONTENT: BLACK&WHITE
BAND_CONTENT: UNDEFINED
BAND_CONTENT: UNDEFINED
BITS_PER_PIXEL: 8
SAMPLES_AND_LINES: 5445 7602
HORIZONTAL_DATUM: NAD83
HORIZONTAL_COORDINATE_SYSTEM: UTM
COORDINATE_ZONE: 13
HORIZONTAL_UNITS: meters
HORIZONTAL_RESOLUTION: 1.00000
SECONDARY_HORIZONTAL_DATUM: NAD27
XY_ORIGIN: 551680.00000 5233526.00000
SECONDARY_XY_ORIGIN: 551719.22600 5233306.05600
NATION: US
STATE: MT
NW_QUAD_CORNER_XY: 552023.18600 5233175.51200
NE_QUAD_CORNER_XY: 556752.54700 5233219.08000
SE_QUAD_CORNERY_XY: 556819.28000 5226273.46100
SW_QUAD_CORNER_XY: 552084.35800 5226229.88500
SECONDARY_NW_QUAD_XY: 552024.79800 5232956.87800
SECONDARY_NE_QUAD_XY: 556754.30500 5233000.44700
SECONDARY_SE_QUAD_XY: 556821.03800 5226054.85300
SECONDARY_SW_QUAD_XY: 552085.96900 5226011.27600
RMSE_XY: 1.14000
IMAGE_SOURCE: BLACK AND WHITE FILM
SOURCE_IMAGE_ID: NAPP 9124-046
SOURCE_IMAGE_DATE: 1997 8 22
SOURCE_IMAGE_ID: NAPP 9095-064
SOURCE_IMAGE_DATE: 1996 7 9
SOURCE_DEM_DATE: 1999 0 0
AGENCY: WESTERN MAPPING CENTER (WMC)
PRODUCER: WOOLPERT LLP
PRODUCTION_SYSTEM: INTERGRAPH ISPM, ISIR
COMPRESSION: UNDEFINED
STANDARD_VERSION: 1996 12
METADATA_DATE: 2001 9 18
DATA_FILE_SIZE: 41398335
BYTE_COUNT: 5445
