FILENAME: O4710455.NWS.1159441.tif
QUADRANGLE_NAME: ODLAND DAM NW
QUADRANT: NW
WEST_LONGITUDE: -104 15 0.00000
EAST_LONGITUDE: -104 11 15.00000
NORTH_LATITUDE: 47 15 0.00000
SOUTH_LATITUDE: 47 11 15.00000
PRODUCTION_DATE: 2001 9 16
RASTER_ORDER: LEFT_RIGHT/TOP_BOTTOM
BAND_ORGANIZATION: SINGLE FILE
BAND_CONTENT: BLACK&WHITE
BAND_CONTENT: UNDEFINED
BAND_CONTENT: UNDEFINED
BITS_PER_PIXEL: 8
SAMPLES_AND_LINES: 5450 7605
HORIZONTAL_DATUM: NAD83
HORIZONTAL_COORDINATE_SYSTEM: UTM
COORDINATE_ZONE: 13
HORIZONTAL_UNITS: meters
HORIZONTAL_RESOLUTION: 1.00000
SECONDARY_HORIZONTAL_DATUM: NAD27
XY_ORIGIN: 556410.00000 5233573.00000
SECONDARY_XY_ORIGIN: 556449.15200 5233353.05200
NATION: US
STATE: MT
NW_QUAD_CORNER_XY: 556752.54700 5233219.08000
NE_QUAD_CORNER_XY: 561481.90200 5233266.43700
SE_QUAD_CORNERY_XY: 561554.19700 5226320.82500
SW_QUAD_CORNER_XY: 556819.28000 5226273.46100
SECONDARY_NW_QUAD_XY: 556754.30500 5233000.44700
SECONDARY_NE_QUAD_XY: 561483.80700 5233047.80600
SECONDARY_SE_QUAD_XY: 561556.10200 5226102.21900
SECONDARY_SW_QUAD_XY: 556821.03800 5226054.85300
RMSE_XY: 2.27000
IMAGE_SOURCE: BLACK AND WHITE FILM
SOURCE_IMAGE_ID: NAPP 9123-224
SOURCE_IMAGE_DATE: 1997 8 3
SOURCE_IMAGE_ID: NAPP 10766-135
SOURCE_IMAGE_DATE: 1998 7 10
SOURCE_DEM_DATE: 1999 0 0
AGENCY: WESTERN MAPPING CENTER (WMC)
PRODUCER: WOOLPERT LLP
PRODUCTION_SYSTEM: INTERGRAPH ISPM, ISIR
COMPRESSION: UNDEFINED
STANDARD_VERSION: 1996 12
METADATA_DATE: 2001 9 18
DATA_FILE_SIZE: 41452700
BYTE_COUNT: 5450
