FILENAME: O4710457.NWS.1163697.tif
QUADRANGLE_NAME: PLEASANT VIEW
QUADRANT: NW
WEST_LONGITUDE: -105 0 0.00000
EAST_LONGITUDE: -104 56 15.00000
NORTH_LATITUDE: 47 7 30.00000
SOUTH_LATITUDE: 47 3 45.00000
PRODUCTION_DATE: 2001 8 28
RASTER_ORDER: LEFT_RIGHT/TOP_BOTTOM
BAND_ORGANIZATION: SINGLE FILE
BAND_CONTENT: BLACK&WHITE
BAND_CONTENT: UNDEFINED
BAND_CONTENT: UNDEFINED
BITS_PER_PIXEL: 8
SAMPLES_AND_LINES: 5398 7560
HORIZONTAL_DATUM: NAD83
HORIZONTAL_COORDINATE_SYSTEM: UTM
COORDINATE_ZONE: 13
HORIZONTAL_UNITS: meters
HORIZONTAL_RESOLUTION: 1.00000
SECONDARY_HORIZONTAL_DATUM: NAD27
XY_ORIGIN: 499654.00000 5219364.00000
SECONDARY_XY_ORIGIN: 499694.08100 5219144.18300
NATION: US
STATE: MT
NW_QUAD_CORNER_XY: 500000.00000 5219055.05900
NE_QUAD_CORNER_XY: 504740.50500 5219056.95400
SE_QUAD_CORNERY_XY: 504746.05500 5212111.44200
SW_QUAD_CORNER_XY: 500000.00000 5212109.54600
SECONDARY_NW_QUAD_XY: 500000.00000 5218836.46900
SECONDARY_NE_QUAD_XY: 504740.65200 5218838.36400
SECONDARY_SE_QUAD_XY: 504746.20100 5211892.87900
SECONDARY_SW_QUAD_XY: 500000.00000 5211890.98400
RMSE_XY: 2.17000
IMAGE_SOURCE: BLACK AND WHITE FILM
SOURCE_IMAGE_ID: NAPP 9096-081
SOURCE_IMAGE_DATE: 1996 7 9
SOURCE_DEM_DATE: 1999 0 0
AGENCY: WESTERN MAPPING CENTER (WMC)
PRODUCER: WOOLPERT LLP
PRODUCTION_SYSTEM: INTERGRAPH ISPM, ISIR
COMPRESSION: UNDEFINED
STANDARD_VERSION: 1996 12
METADATA_DATE: 2001 8 28
DATA_FILE_SIZE: 40814278
BYTE_COUNT: 5398
