FILENAME: O4710458.SWS.1160706.tif
QUADRANGLE_NAME: FOREST PARK
QUADRANT: SW
WEST_LONGITUDE: -104 52 30.00000
EAST_LONGITUDE: -104 48 45.00000
NORTH_LATITUDE: 47 3 45.00000
SOUTH_LATITUDE: 47 0 0.00000
PRODUCTION_DATE: 2001 9 21
RASTER_ORDER: LEFT_RIGHT/TOP_BOTTOM
BAND_ORGANIZATION: SINGLE FILE
BAND_CONTENT: BLACK&WHITE
BAND_CONTENT: UNDEFINED
BAND_CONTENT: UNDEFINED
BITS_PER_PIXEL: 8
SAMPLES_AND_LINES: 5413 7567
HORIZONTAL_DATUM: NAD83
HORIZONTAL_COORDINATE_SYSTEM: UTM
COORDINATE_ZONE: 13
HORIZONTAL_UNITS: meters
HORIZONTAL_RESOLUTION: 1.00000
SECONDARY_HORIZONTAL_DATUM: NAD27
XY_ORIGIN: 509147.00000 5212433.00000
SECONDARY_XY_ORIGIN: 509186.98700 5212213.26400
NATION: US
STATE: MT
NW_QUAD_CORNER_XY: 509492.10900 5212117.12700
NE_QUAD_CORNER_XY: 514238.16200 5212126.60200
SE_QUAD_CORNERY_XY: 514254.79400 5205181.16800
SW_QUAD_CORNER_XY: 509503.19600 5205171.69200
SECONDARY_NW_QUAD_XY: 509492.40200 5211898.56500
SECONDARY_NE_QUAD_XY: 514238.60200 5211908.04000
SECONDARY_SE_QUAD_XY: 514255.23300 5204962.63400
SECONDARY_SW_QUAD_XY: 509503.48900 5204953.15700
RMSE_XY: 2.25000
IMAGE_SOURCE: BLACK AND WHITE FILM
SOURCE_IMAGE_ID: NAPP 9081-151
SOURCE_IMAGE_DATE: 1996 6 12
SOURCE_DEM_DATE: 1999 0 0
AGENCY: WESTERN MAPPING CENTER (WMC)
PRODUCER: WOOLPERT LLP
PRODUCTION_SYSTEM: INTERGRAPH ISPM, ISIR
COMPRESSION: UNDEFINED
STANDARD_VERSION: 1996 12
METADATA_DATE: 2001 10 3
DATA_FILE_SIZE: 40965584
BYTE_COUNT: 5413
