FILENAME: O4710459.SWS.1160722.tif
QUADRANGLE_NAME: GLENDIVE
QUADRANT: SW
WEST_LONGITUDE: -104 45 0.00000
EAST_LONGITUDE: -104 41 15.00000
NORTH_LATITUDE: 47 3 45.00000
SOUTH_LATITUDE: 47 0 0.00000
PRODUCTION_DATE: 2001 9 21
RASTER_ORDER: LEFT_RIGHT/TOP_BOTTOM
BAND_ORGANIZATION: SINGLE FILE
BAND_CONTENT: BLACK&WHITE
BAND_CONTENT: UNDEFINED
BAND_CONTENT: UNDEFINED
BITS_PER_PIXEL: 8
SAMPLES_AND_LINES: 5424 7575
HORIZONTAL_DATUM: NAD83
HORIZONTAL_COORDINATE_SYSTEM: UTM
COORDINATE_ZONE: 13
HORIZONTAL_UNITS: meters
HORIZONTAL_RESOLUTION: 1.00000
SECONDARY_HORIZONTAL_DATUM: NAD27
XY_ORIGIN: 518639.00000 5212464.00000
SECONDARY_XY_ORIGIN: 518678.85400 5212244.26700
NATION: US
STATE: MT
NW_QUAD_CORNER_XY: 518984.21500 5212139.86800
NE_QUAD_CORNER_XY: 523730.26500 5212156.92400
SE_QUAD_CORNERY_XY: 523757.98400 5205211.49500
SW_QUAD_CORNER_XY: 519006.39000 5205194.43600
SECONDARY_NW_QUAD_XY: 518984.80000 5211921.30600
SECONDARY_NE_QUAD_XY: 523730.99800 5211938.36300
SECONDARY_SE_QUAD_XY: 523758.71700 5204992.96100
SECONDARY_SW_QUAD_XY: 519006.97600 5204975.90200
RMSE_XY: 2.70000
IMAGE_SOURCE: BLACK AND WHITE FILM
SOURCE_IMAGE_ID: NAPP 9080-195
SOURCE_IMAGE_DATE: 1996 6 12
SOURCE_IMAGE_ID: NAPP 9080-194
SOURCE_IMAGE_DATE: 1996 6 12
SOURCE_IMAGE_ID: NAPP 9080-196
SOURCE_IMAGE_DATE: 1996 6 12
SOURCE_IMAGE_ID: NAPP 9080-067
SOURCE_IMAGE_DATE: 1996 6 12
SOURCE_IMAGE_ID: NAPP 9080-065
SOURCE_IMAGE_DATE: 1996 6 12
SOURCE_DEM_DATE: 1999 0 0
AGENCY: WESTERN MAPPING CENTER (WMC)
PRODUCER: WOOLPERT LLP
PRODUCTION_SYSTEM: INTERGRAPH ISPM, ISIR
COMPRESSION: UNDEFINED
STANDARD_VERSION: 1996 12
METADATA_DATE: 2001 10 3
DATA_FILE_SIZE: 41092224
BYTE_COUNT: 5424
