FILENAME: O4710460.NWS.1160734.tif
QUADRANGLE_NAME: ALLARD
QUADRANT: NW
WEST_LONGITUDE: -104 37 30.00000
EAST_LONGITUDE: -104 33 45.00000
NORTH_LATITUDE: 47 7 30.00000
SOUTH_LATITUDE: 47 3 45.00000
PRODUCTION_DATE: 2001 9 21
RASTER_ORDER: LEFT_RIGHT/TOP_BOTTOM
BAND_ORGANIZATION: SINGLE FILE
BAND_CONTENT: BLACK&WHITE
BAND_CONTENT: UNDEFINED
BAND_CONTENT: UNDEFINED
BITS_PER_PIXEL: 8
SAMPLES_AND_LINES: 5429 7583
HORIZONTAL_DATUM: NAD83
HORIZONTAL_COORDINATE_SYSTEM: UTM
COORDINATE_ZONE: 13
HORIZONTAL_UNITS: meters
HORIZONTAL_RESOLUTION: 1.00000
SECONDARY_HORIZONTAL_DATUM: NAD27
XY_ORIGIN: 528099.00000 5219455.00000
SECONDARY_XY_ORIGIN: 528138.67500 5219235.19900
NATION: US
STATE: MT
NW_QUAD_CORNER_XY: 528443.01700 5219123.27200
NE_QUAD_CORNER_XY: 533183.51300 5219147.90500
SE_QUAD_CORNERY_XY: 533222.36000 5212202.40600
SW_QUAD_CORNER_XY: 528476.31400 5212177.77000
SECONDARY_NW_QUAD_XY: 528443.89600 5218904.68400
SECONDARY_NE_QUAD_XY: 533184.53900 5218929.31800
SECONDARY_SE_QUAD_XY: 533223.38600 5211983.84700
SECONDARY_SW_QUAD_XY: 528477.19300 5211959.21000
RMSE_XY: 2.45000
IMAGE_SOURCE: BLACK AND WHITE FILM
SOURCE_IMAGE_ID: NAPP 9108-042
SOURCE_IMAGE_DATE: 1996 8 8
SOURCE_IMAGE_ID: NAPP 9108-043
SOURCE_IMAGE_DATE: 1996 8 8
SOURCE_IMAGE_ID: NAPP 9080-067
SOURCE_IMAGE_DATE: 1996 6 12
SOURCE_DEM_DATE: 1999 0 0
AGENCY: WESTERN MAPPING CENTER (WMC)
PRODUCER: WOOLPERT LLP
PRODUCTION_SYSTEM: INTERGRAPH ISPM, ISIR
COMPRESSION: UNDEFINED
STANDARD_VERSION: 1996 12
METADATA_DATE: 2001 10 3
DATA_FILE_SIZE: 41173536
BYTE_COUNT: 5429
