FILENAME: O4710463.SWS.1159459.tif
QUADRANGLE_NAME: ODLAND DAM SW
QUADRANT: SW
WEST_LONGITUDE: -104 15 0.00000
EAST_LONGITUDE: -104 11 15.00000
NORTH_LATITUDE: 47 3 45.00000
SOUTH_LATITUDE: 47 0 0.00000
PRODUCTION_DATE: 2001 9 16
RASTER_ORDER: LEFT_RIGHT/TOP_BOTTOM
BAND_ORGANIZATION: SINGLE FILE
BAND_CONTENT: BLACK&WHITE
BAND_CONTENT: UNDEFINED
BAND_CONTENT: UNDEFINED
BITS_PER_PIXEL: 8
SAMPLES_AND_LINES: 5466 7604
HORIZONTAL_DATUM: NAD83
HORIZONTAL_COORDINATE_SYSTEM: UTM
COORDINATE_ZONE: 13
HORIZONTAL_UNITS: meters
HORIZONTAL_RESOLUTION: 1.00000
SECONDARY_HORIZONTAL_DATUM: NAD27
XY_ORIGIN: 556610.00000 5212736.00000
SECONDARY_XY_ORIGIN: 556649.27400 5212516.25100
NATION: US
STATE: MT
NW_QUAD_CORNER_XY: 556952.54200 5212382.44600
NE_QUAD_CORNER_XY: 561698.56600 5212429.82600
SE_QUAD_CORNERY_XY: 561770.63900 5205484.43800
SW_QUAD_CORNER_XY: 557019.07100 5205437.05100
SECONDARY_NW_QUAD_XY: 556954.30000 5212163.89200
SECONDARY_NE_QUAD_XY: 561700.47000 5212211.27300
SECONDARY_SE_QUAD_XY: 561772.54300 5205265.91300
SECONDARY_SW_QUAD_XY: 557020.82800 5205218.52500
RMSE_XY: 2.47000
IMAGE_SOURCE: BLACK AND WHITE FILM
SOURCE_IMAGE_ID: NAPP 9123-230
SOURCE_IMAGE_DATE: 1997 8 3
SOURCE_IMAGE_ID: NAPP 9124-041
SOURCE_IMAGE_DATE: 1997 8 22
SOURCE_DEM_DATE: 1999 0 0
AGENCY: WESTERN MAPPING CENTER (WMC)
PRODUCER: WOOLPERT LLP
PRODUCTION_SYSTEM: INTERGRAPH ISPM, ISIR
COMPRESSION: UNDEFINED
STANDARD_VERSION: 1996 12
METADATA_DATE: 2001 9 27
DATA_FILE_SIZE: 41568930
BYTE_COUNT: 5466
