Note: This header file was extracted from a digital orthophoto image that covers a full 7.5-minute quadrangle in Universal Transverse Mercator Coordinates. The State Library converted that image to Montana State Plane Coordinates, units meters, and extracted portions of the image that cover a 3.75-minute quarter-quadrangle. The coordinates given in this file do not apply to the State Plane Coordinate images.
BEGIN_USGS_DOQ_HEADER *
QUADRANGLE_NAME "PRIMROSE" *
QUADRANT *
WEST_LONGITUDE -114 15 0.000 *
EAST_LONGITUDE -114 7 30.000 *
NORTH_LATITUDE 47 0 0.000 *
SOUTH_LATITUDE 46 52 30.000 *
PRODUCTION_DATE 2004 9 16 *
RASTER_ORDER LEFT_RIGHT/TOP_BOTTOM *
BAND_ORGANIZATION "SINGLE FILE" *
BAND_CONTENT BLACK&WHITE *
BITS_PER_PIXEL 8 *
SAMPLES_AND_LINES 10685 14837 *
HORIZONTAL_DATUM NAD83 *
HORIZONTAL_COORDINATE_SYSTEM UTM *
COORDINATE_ZONE 11 *
HORIZONTAL_UNITS METERS *
HORIZONTAL_RESOLUTION 1.0 *
SECONDARY_HORIZONTAL_DATUM NAD27 *
XY_ORIGIN 708692.190 5209482.180 *
SECONDARY_XY_ORIGIN 708770.635 5209275.002 *
NATION US *
STATE MT *
NW_QUAD_CORNER_XY 709064.822 5208834.822 *
NE_QUAD_CORNER_XY 718567.230 5209176.237 *
SE_QUAD_CORNER_XY 719076.857 5195286.760 *
SW_QUAD_CORNER_XY 709552.260 5194945.245 *
SECONDARY_NW_QUAD_XY 709071.268 5208616.402 *
SECONDARY_NE_QUAD_XY 718573.970 5208957.827 *
SECONDARY_SE_QUAD_XY 719083.594 5195068.408 *
SECONDARY_SW_QUAD_XY 709558.704 5194726.884 *
RMSE_XY 1.11 *
IMAGE_SOURCE "BLACK AND WHITE FILM" *
SOURCE_IMAGE_ID "NAPP 12668 39" *
SOURCE_IMAGE_DATE 2003 7 15 *
SOURCE_IMAGE_ID "NAPP 12668 41" *
SOURCE_IMAGE_DATE 2003 7 15 *
SOURCE_IMAGE_ID "NAPP 12668 26" *
SOURCE_IMAGE_DATE 2003 7 15 *
SOURCE_IMAGE_ID "NAPP 12668 28" *
SOURCE_IMAGE_DATE 2003 7 15 *
SOURCE_IMAGE_ID "NAPP 12668 38" *
SOURCE_IMAGE_DATE 2003 7 15 *
SOURCE_IMAGE_ID "NAPP 12668 40" *
SOURCE_IMAGE_DATE 2003 7 15 *
SOURCE_IMAGE_ID "NAPP 12668 42" *
SOURCE_IMAGE_DATE 2003 7 15 *
SOURCE_IMAGE_ID "NAPP 12668 29" *
SOURCE_IMAGE_DATE 2003 7 15 *
SOURCE_IMAGE_ID "NAPP 12668 27" *
SOURCE_IMAGE_DATE 2003 7 15 *
SOURCE_IMAGE_ID "NAPP 12668 25" *
SOURCE_IMAGE_DATE 2003 7 15 *
SOURCE_IMAGE_ID "NAPP 12661 124" *
SOURCE_IMAGE_DATE 2002 9 23 *
SOURCE_IMAGE_ID "NAPP 12661 125" *
SOURCE_IMAGE_DATE 2002 9 23 *
SOURCE_IMAGE_ID "NAPP 12661 126" *
SOURCE_IMAGE_DATE 2002 9 23 *
SOURCE_IMAGE_ID "NAPP 12661 127" *
SOURCE_IMAGE_DATE 2002 9 23 *
SOURCE_IMAGE_ID "NAPP 12661 128" *
SOURCE_IMAGE_DATE 2002 9 23 *
SOURCE_IMAGE_ID "NAPP 12667 35" *
SOURCE_IMAGE_DATE 2003 7 15 *
SOURCE_IMAGE_ID "NAPP 12667 36" *
SOURCE_IMAGE_DATE 2003 7 15 *
SOURCE_IMAGE_ID "NAPP 12667 37" *
SOURCE_IMAGE_DATE 2003 7 15 *
SOURCE_IMAGE_ID "NAPP 12667 38" *
SOURCE_IMAGE_DATE 2003 7 15 *
SOURCE_IMAGE_ID "NAPP 12667 39" *
SOURCE_IMAGE_DATE 2003 7 15 *
SOURCE_DEM_DATE 2004 1 1 *
AGENCY "WESTERN MAPPING CENTER (WMC)" *
PRODUCER "USDA FS GEOSPATIAL SERVICE AND TECHNOLOGY CENTER" *
PRODUCTION_SYSTEM "ORBIT OR_RECTIFY V.5.2" *
STANDARD_VERSION 1996 12 *
METADATA_DATE 2004 10 1 *
DATA_FILE_SIZE 158544030 *
BYTE_COUNT 10685 * *
