Note: This header file was extracted from a digital orthophoto image that covers a full 7.5-minute quadrangle in Universal Transverse Mercator Coordinates. The State Library converted that image to Montana State Plane Coordinates, units meters, and extracted portions of the image that cover a 3.75-minute quarter-quadrangle. The coordinates given in this file do not apply to the State Plane Coordinate images.
BEGIN_USGS_DOQ_HEADER *
QUADRANGLE_NAME "WHITE MOUNTAIN" *
QUADRANT *
WEST_LONGITUDE -114 45 0.000 *
EAST_LONGITUDE -114 37 30.000 *
NORTH_LATITUDE 46 52 30.000 *
SOUTH_LATITUDE 46 45 0.000 *
PRODUCTION_DATE 2004 9 16 *
RASTER_ORDER LEFT_RIGHT/TOP_BOTTOM *
BAND_ORGANIZATION "SINGLE FILE" *
BAND_CONTENT BLACK&WHITE *
BITS_PER_PIXEL 8 *
SAMPLES_AND_LINES 10618 14777 *
HORIZONTAL_DATUM NAD83 *
HORIZONTAL_COORDINATE_SYSTEM UTM *
COORDINATE_ZONE 11 *
HORIZONTAL_UNITS METERS *
HORIZONTAL_RESOLUTION 1.0 *
SECONDARY_HORIZONTAL_DATUM NAD27 *
XY_ORIGIN 671080.150 5194318.560 *
SECONDARY_XY_ORIGIN 671158.015 5194111.155 *
NATION US *
STATE MT *
NW_QUAD_CORNER_XY 671453.254 5193731.151 *
NE_QUAD_CORNER_XY 680978.092 5194011.885 *
SE_QUAD_CORNER_XY 681398.120 5180122.288 *
SW_QUAD_CORNER_XY 671851.154 5179841.477 *
SECONDARY_NW_QUAD_XY 671458.526 5193512.751 *
SECONDARY_NE_QUAD_XY 680983.656 5193793.494 *
SECONDARY_SE_QUAD_XY 681403.682 5179903.959 *
SECONDARY_SW_QUAD_XY 671856.424 5179623.139 *
RMSE_XY 1.11 *
IMAGE_SOURCE "BLACK AND WHITE FILM" *
SOURCE_IMAGE_ID "NAPP 12672 91" *
SOURCE_IMAGE_DATE 2003 7 19 *
SOURCE_IMAGE_ID "NAPP 12672 89" *
SOURCE_IMAGE_DATE 2003 7 19 *
SOURCE_IMAGE_ID "NAPP 12661 28" *
SOURCE_IMAGE_DATE 2002 9 23 *
SOURCE_IMAGE_ID "NAPP 12661 30" *
SOURCE_IMAGE_DATE 2002 9 23 *
SOURCE_IMAGE_ID "NAPP 12672 92" *
SOURCE_IMAGE_DATE 2003 7 19 *
SOURCE_IMAGE_ID "NAPP 12672 90" *
SOURCE_IMAGE_DATE 2003 7 19 *
SOURCE_IMAGE_ID "NAPP 12662 73" *
SOURCE_IMAGE_DATE 2002 9 25 *
SOURCE_IMAGE_ID "NAPP 12661 31" *
SOURCE_IMAGE_DATE 2002 9 23 *
SOURCE_IMAGE_ID "NAPP 12661 29" *
SOURCE_IMAGE_DATE 2002 9 23 *
SOURCE_IMAGE_ID "NAPP 12661 27" *
SOURCE_IMAGE_DATE 2002 9 23 *
SOURCE_IMAGE_ID "NAPP 12682 35" *
SOURCE_IMAGE_DATE 2003 9 29 *
SOURCE_IMAGE_ID "NAPP 12661 40" *
SOURCE_IMAGE_DATE 2002 9 23 *
SOURCE_IMAGE_ID "NAPP 12661 41" *
SOURCE_IMAGE_DATE 2002 9 23 *
SOURCE_IMAGE_ID "NAPP 12661 42" *
SOURCE_IMAGE_DATE 2002 9 23 *
SOURCE_IMAGE_ID "NAPP 12661 43" *
SOURCE_IMAGE_DATE 2002 9 23 *
SOURCE_IMAGE_ID "NAPP 12661 44" *
SOURCE_IMAGE_DATE 2002 9 23 *
SOURCE_DEM_DATE 2004 1 1 *
AGENCY "WESTERN MAPPING CENTER (WMC)" *
PRODUCER "USDA FS GEOSPATIAL SERVICE AND TECHNOLOGY CENTER" *
PRODUCTION_SYSTEM "ORBIT OR_RECTIFY V.5.2" *
STANDARD_VERSION 1996 12 *
METADATA_DATE 2004 10 1 *
DATA_FILE_SIZE 156912804 *
BYTE_COUNT 10618 * *
