FILENAME: O4611424.NES.1068856.tif
QUADRANGLE_NAME: FLORENCE
QUADRANT: NE
WEST_LONGITUDE: -114 3 45.00000
EAST_LONGITUDE: -114 0 0.00000
NORTH_LATITUDE: 46 45 0.00000
SOUTH_LATITUDE: 46 41 15.00000
PRODUCTION_DATE: 2000 3 14
RASTER_ORDER: LEFT_RIGHT/TOP_BOTTOM
BAND_ORGANIZATION: SINGLE FILE
BAND_CONTENT: BLACK&WHITE
BAND_CONTENT: UNDEFINED
BAND_CONTENT: UNDEFINED
BITS_PER_PIXEL: 8
SAMPLES_AND_LINES: 5713 7739
HORIZONTAL_DATUM: NAD83
HORIZONTAL_COORDINATE_SYSTEM: UTM
COORDINATE_ZONE: 11
HORIZONTAL_UNITS: METERS
HORIZONTAL_RESOLUTION: 1.00000
SECONDARY_HORIZONTAL_DATUM: NAD27
XY_ORIGIN: 723986.00000 5182055.00000
SECONDARY_XY_ORIGIN: 724064.64300 5181847.91100
NATION: US
NATION: "SCIENCE
STATE: MT
NW_QUAD_CORNER_XY: 724358.78200 5181574.01800
NE_QUAD_CORNER_XY: 729132.11200 5181754.32600
SE_QUAD_CORNERY_XY: 729397.06500 5174809.83400
SW_QUAD_CORNER_XY: 724618.20600 5174629.50200
SECONDARY_NW_QUAD_XY: 724365.66100 5181355.73200
SECONDARY_NE_QUAD_XY: 729139.13800 5181536.04600
SECONDARY_SE_QUAD_XY: 729404.08900 5174591.58600
SECONDARY_SW_QUAD_XY: 724625.08400 5174411.24900
RMSE_XY: 1.10000
IMAGE_SOURCE: BLACK AND WHITE FILM
SOURCE_IMAGE_ID: NAPP 8407 210
SOURCE_IMAGE_DATE: 1995 08 19
SOURCE_IMAGE_ID: NAPP 8407 211
SOURCE_IMAGE_DATE: 1995 08 19
SOURCE_DEM_DATE: 1967 00 00
AGENCY: WESTERN MAPPING CENTER (WMC)
PRODUCER: UNDEFINED
PRODUCTION_SYSTEM: GIS/MAGIC
COMPRESSION: UNDEFINED
STANDARD_VERSION: 1996 12
METADATA_DATE: 2000 04 20
DATA_FILE_SIZE: 44218620
BYTE_COUNT: 5713
