FILENAME: O4611431.NWS.1068411.tif
QUADRANGLE_NAME: SAINT MARY PEAK
QUADRANT: NW
WEST_LONGITUDE: -114 15 0.00000
EAST_LONGITUDE: -114 11 15.00000
NORTH_LATITUDE: 46 37 30.00000
SOUTH_LATITUDE: 46 33 45.00000
PRODUCTION_DATE: 2000 3 14
RASTER_ORDER: LEFT_RIGHT/TOP_BOTTOM
BAND_ORGANIZATION: SINGLE FILE
BAND_CONTENT: BLACK&WHITE
BAND_CONTENT: UNDEFINED
BAND_CONTENT: UNDEFINED
BITS_PER_PIXEL: 8
SAMPLES_AND_LINES: 5707 7727
HORIZONTAL_DATUM: NAD83
HORIZONTAL_COORDINATE_SYSTEM: UTM
COORDINATE_ZONE: 11
HORIZONTAL_UNITS: METERS
HORIZONTAL_RESOLUTION: 1.00000
SECONDARY_HORIZONTAL_DATUM: NAD27
XY_ORIGIN: 710151.00000 5167636.00000
SECONDARY_XY_ORIGIN: 710229.32400 5167428.81900
NATION: US
NATION: "SCIENCE
STATE: MT
NW_QUAD_CORNER_XY: 710524.12400 5167166.79600
NE_QUAD_CORNER_XY: 715308.55100 5167335.74200
SE_QUAD_CORNERY_XY: 715556.40300 5160391.29700
SW_QUAD_CORNER_XY: 710766.46100 5160222.33000
SECONDARY_NW_QUAD_XY: 710530.56200 5166948.55900
SECONDARY_NE_QUAD_XY: 715315.13500 5167117.51100
SECONDARY_SE_QUAD_XY: 715562.98600 5160173.10000
SECONDARY_SW_QUAD_XY: 710772.89800 5160004.12800
RMSE_XY: 2.60000
IMAGE_SOURCE: BLACK AND WHITE FILM
SOURCE_IMAGE_ID: NAPP 8407 199
SOURCE_IMAGE_DATE: 1995 08 19
SOURCE_IMAGE_ID: NAPP 8407 200
SOURCE_IMAGE_DATE: 1995 08 19
SOURCE_IMAGE_ID: NAPP 8407 198
SOURCE_IMAGE_DATE: 1995 08 19
SOURCE_IMAGE_ID: NAPP 8406 065
SOURCE_IMAGE_DATE: 1995 07 31
SOURCE_DEM_DATE: 1997 00 00
AGENCY: WESTERN MAPPING CENTER (WMC)
PRODUCER: UNDEFINED
PRODUCTION_SYSTEM: GIS/MAGIC
COMPRESSION: UNDEFINED
STANDARD_VERSION: 1996 12
METADATA_DATE: 2000 04 20
DATA_FILE_SIZE: 44103696
BYTE_COUNT: 5707
