FILENAME: O4611432.NWS.1068861.tif
QUADRANGLE_NAME: STEVENSVILLE
QUADRANT: NW
WEST_LONGITUDE: -114 7 30.00000
EAST_LONGITUDE: -114 3 45.00000
NORTH_LATITUDE: 46 37 30.00000
SOUTH_LATITUDE: 46 33 45.00000
PRODUCTION_DATE: 2000 3 14
RASTER_ORDER: LEFT_RIGHT/TOP_BOTTOM
BAND_ORGANIZATION: SINGLE FILE
BAND_CONTENT: BLACK&WHITE
BAND_CONTENT: UNDEFINED
BAND_CONTENT: UNDEFINED
BITS_PER_PIXEL: 8
SAMPLES_AND_LINES: 5718 7736
HORIZONTAL_DATUM: NAD83
HORIZONTAL_COORDINATE_SYSTEM: UTM
COORDINATE_ZONE: 11
HORIZONTAL_UNITS: METERS
HORIZONTAL_RESOLUTION: 1.00000
SECONDARY_HORIZONTAL_DATUM: NAD27
XY_ORIGIN: 719720.00000 5167986.00000
SECONDARY_XY_ORIGIN: 719798.44100 5167778.95100
NATION: US
NATION: "SCIENCE
STATE: MT
NW_QUAD_CORNER_XY: 720092.96300 5167508.49100
NE_QUAD_CORNER_XY: 724877.36000 5167685.04300
SE_QUAD_CORNERY_XY: 725136.24600 5160740.64000
SW_QUAD_CORNER_XY: 720346.33200 5160564.06700
SECONDARY_NW_QUAD_XY: 720099.69400 5167290.26500
SECONDARY_NE_QUAD_XY: 724884.23700 5167466.82200
SECONDARY_SE_QUAD_XY: 725143.12200 5160522.45300
SECONDARY_SW_QUAD_XY: 720353.06100 5160345.87500
RMSE_XY: 1.00000
IMAGE_SOURCE: BLACK AND WHITE FILM
SOURCE_IMAGE_ID: NAPP 8406 055
SOURCE_IMAGE_DATE: 1995 07 31
SOURCE_IMAGE_ID: NAPP 8406 053
SOURCE_IMAGE_DATE: 1995 07 31
SOURCE_DEM_DATE: 1997 00 00
AGENCY: WESTERN MAPPING CENTER (WMC)
PRODUCER: UNDEFINED
PRODUCTION_SYSTEM: GIS/MAGIC
COMPRESSION: UNDEFINED
STANDARD_VERSION: 1996 12
METADATA_DATE: 2000 04 20
DATA_FILE_SIZE: 44240166
BYTE_COUNT: 5718
