FILENAME: O4611447.NES.1068418.tif
QUADRANGLE_NAME: HAMILTON NORTH
QUADRANT: NE
WEST_LONGITUDE: -114 11 15.00000
EAST_LONGITUDE: -114 7 30.00000
NORTH_LATITUDE: 46 22 30.00000
SOUTH_LATITUDE: 46 18 45.00000
PRODUCTION_DATE: 2000 3 22
RASTER_ORDER: LEFT_RIGHT/TOP_BOTTOM
BAND_ORGANIZATION: SINGLE FILE
BAND_CONTENT: BLACK&WHITE
BAND_CONTENT: UNDEFINED
BAND_CONTENT: UNDEFINED
BITS_PER_PIXEL: 8
SAMPLES_AND_LINES: 5734 7732
HORIZONTAL_DATUM: NAD83
HORIZONTAL_COORDINATE_SYSTEM: UTM
COORDINATE_ZONE: 11
HORIZONTAL_UNITS: METERS
HORIZONTAL_RESOLUTION: 1.00000
SECONDARY_HORIZONTAL_DATUM: NAD27
XY_ORIGIN: 715925.00000 5140032.00000
SECONDARY_XY_ORIGIN: 716003.01800 5139825.10900
NATION: US
NATION: "SCIENCE
STATE: MT
NW_QUAD_CORNER_XY: 716298.41200 5139558.31000
NE_QUAD_CORNER_XY: 721104.85500 5139731.13700
SE_QUAD_CORNERY_XY: 721357.16800 5132786.94100
SW_QUAD_CORNER_XY: 716545.23200 5132614.09600
SECONDARY_NW_QUAD_XY: 716304.99200 5139340.21900
SECONDARY_NE_QUAD_XY: 721111.58100 5139513.05100
SECONDARY_SE_QUAD_XY: 721363.89200 5132568.89200
SECONDARY_SW_QUAD_XY: 716551.80900 5132396.04200
RMSE_XY: 0.90000
IMAGE_SOURCE: BLACK AND WHITE FILM
SOURCE_IMAGE_ID: NAPP 8406 074
SOURCE_IMAGE_DATE: 1995 07 31
SOURCE_DEM_DATE: 1997 00 00
AGENCY: WESTERN MAPPING CENTER (WMC)
PRODUCER: UNDEFINED
PRODUCTION_SYSTEM: GIS/MAGIC
COMPRESSION: UNDEFINED
STANDARD_VERSION: 1996 12
METADATA_DATE: 2000 04 20
DATA_FILE_SIZE: 44341022
BYTE_COUNT: 5734
