FILENAME: O4611448.SES.1068760.tif
QUADRANGLE_NAME: CORVALLIS
QUADRANT: SE
WEST_LONGITUDE: -114 3 45.00000
EAST_LONGITUDE: -114 0 0.00000
NORTH_LATITUDE: 46 18 45.00000
SOUTH_LATITUDE: 46 15 0.00000
PRODUCTION_DATE: 2000 3 15
RASTER_ORDER: LEFT_RIGHT/TOP_BOTTOM
BAND_ORGANIZATION: SINGLE FILE
BAND_CONTENT: BLACK&WHITE
BAND_CONTENT: UNDEFINED
BAND_CONTENT: UNDEFINED
BITS_PER_PIXEL: 8
SAMPLES_AND_LINES: 5750 7739
HORIZONTAL_DATUM: NAD83
HORIZONTAL_COORDINATE_SYSTEM: UTM
COORDINATE_ZONE: 11
HORIZONTAL_UNITS: METERS
HORIZONTAL_RESOLUTION: 1.00000
SECONDARY_HORIZONTAL_DATUM: NAD27
XY_ORIGIN: 725796.00000 5133445.00000
SECONDARY_XY_ORIGIN: 725874.00400 5133238.29000
NATION: US
NATION: "SCIENCE
STATE: MT
NW_QUAD_CORNER_XY: 726169.09200 5132963.59100
NE_QUAD_CORNER_XY: 730981.00400 5133144.04500
SE_QUAD_CORNERY_XY: 731244.02900 5126199.94100
SW_QUAD_CORNER_XY: 726426.62800 5126019.46900
SECONDARY_NW_QUAD_XY: 726175.96300 5132745.54700
SECONDARY_NE_QUAD_XY: 730988.02100 5132926.00800
SECONDARY_SE_QUAD_XY: 731251.04400 5125981.94200
SECONDARY_SW_QUAD_XY: 726433.49700 5125801.46400
RMSE_XY: 1.70000
IMAGE_SOURCE: BLACK AND WHITE FILM
SOURCE_IMAGE_ID: NAPP 8406 034
SOURCE_IMAGE_DATE: 1995 07 31
SOURCE_DEM_DATE: 1990 00 00
AGENCY: WESTERN MAPPING CENTER (WMC)
PRODUCER: UNDEFINED
PRODUCTION_SYSTEM: GIS/MAGIC
COMPRESSION: UNDEFINED
STANDARD_VERSION: 1996 12
METADATA_DATE: 2000 04 20
DATA_FILE_SIZE: 44505000
BYTE_COUNT: 5750
