FILENAME: O4611448.NWS.1068759.tif
QUADRANGLE_NAME: CORVALLIS
QUADRANT: NW
WEST_LONGITUDE: -114 7 30.00000
EAST_LONGITUDE: -114 3 45.00000
NORTH_LATITUDE: 46 22 30.00000
SOUTH_LATITUDE: 46 18 45.00000
PRODUCTION_DATE: 2000 3 15
RASTER_ORDER: LEFT_RIGHT/TOP_BOTTOM
BAND_ORGANIZATION: SINGLE FILE
BAND_CONTENT: BLACK&WHITE
BAND_CONTENT: UNDEFINED
BAND_CONTENT: UNDEFINED
BITS_PER_PIXEL: 8
SAMPLES_AND_LINES: 5739 7735
HORIZONTAL_DATUM: NAD83
HORIZONTAL_COORDINATE_SYSTEM: UTM
COORDINATE_ZONE: 11
HORIZONTAL_UNITS: METERS
HORIZONTAL_RESOLUTION: 1.00000
SECONDARY_HORIZONTAL_DATUM: NAD27
XY_ORIGIN: 720732.00000 5140208.00000
SECONDARY_XY_ORIGIN: 720810.07100 5140001.17200
NATION: US
NATION: "SCIENCE
STATE: MT
NW_QUAD_CORNER_XY: 721104.85500 5139731.13700
NE_QUAD_CORNER_XY: 725911.28600 5139907.76800
SE_QUAD_CORNERY_XY: 726169.09200 5132963.59100
SW_QUAD_CORNER_XY: 721357.16800 5132786.94100
SECONDARY_NW_QUAD_XY: 721111.58100 5139513.05100
SECONDARY_NE_QUAD_XY: 725918.15800 5139689.68800
SECONDARY_SE_QUAD_XY: 726175.96300 5132745.54700
SECONDARY_SW_QUAD_XY: 721363.89200 5132568.89200
RMSE_XY: 1.30000
IMAGE_SOURCE: BLACK AND WHITE FILM
SOURCE_IMAGE_ID: NAPP 8406 047
SOURCE_IMAGE_DATE: 1995 07 31
SOURCE_DEM_DATE: 1990 00 00
AGENCY: WESTERN MAPPING CENTER (WMC)
PRODUCER: UNDEFINED
PRODUCTION_SYSTEM: GIS/MAGIC
COMPRESSION: UNDEFINED
STANDARD_VERSION: 1996 12
METADATA_DATE: 2000 04 20
DATA_FILE_SIZE: 44396904
BYTE_COUNT: 5739
