BEGIN_USGS_DOQ_HEADER *
QUADRANGLE_NAME "TENMILE LAKE" *
QUADRANT NE *
WEST_LONGITUDE -114 26 15.000 *
EAST_LONGITUDE -114 22 30.000 *
NORTH_LATITUDE 46 15 0.000 *
SOUTH_LATITUDE 46 11 15.000 *
PRODUCTION_DATE 2003 4 1 *
RASTER_ORDER LEFT_RIGHT/TOP_BOTTOM *
BAND_ORGANIZATION "SINGLE FILE" *
BAND_CONTENT BLACK&WHITE *
BITS_PER_PIXEL 8 *
SAMPLES_AND_LINES 5719 7708 *
HORIZONTAL_DATUM NAD83 *
HORIZONTAL_COORDINATE_SYSTEM UTM *
COORDINATE_ZONE 11 *
HORIZONTAL_UNITS METERS *
HORIZONTAL_RESOLUTION 1.0 *
SECONDARY_HORIZONTAL_DATUM NAD27 *
XY_ORIGIN 697149.840 5125480.550 *
SECONDARY_XY_ORIGIN 697227.411 5125273.587 *
NATION US *
STATE MT *
NW_QUAD_CORNER_XY 697521.986 5125016.540 *
NE_QUAD_CORNER_XY 702339.453 5125174.184 *
SE_QUAD_CORNER_XY 702569.312 5118230.041 *
SW_QUAD_CORNER_XY 697746.365 5118072.382 *
SECONDARY_NW_QUAD_XY 697527.979 5124798.505 *
SECONDARY_NE_QUAD_XY 702345.593 5124956.154 *
SECONDARY_SE_QUAD_XY 702575.450 5118012.050 *
SECONDARY_SW_QUAD_XY 697752.357 5117854.386 *
RMSE_XY 1.00 *
IMAGE_SOURCE "BLACK AND WHITE FILM" *
SOURCE_IMAGE_ID "NAPP 10653 87" *
SOURCE_IMAGE_DATE 1998 9 15 *
SOURCE_IMAGE_ID "NAPP 10653 88" *
SOURCE_IMAGE_DATE 1998 9 15 *
SOURCE_IMAGE_ID "NAPP 10653 86" *
SOURCE_IMAGE_DATE 1998 9 15 *
SOURCE_IMAGE_ID "NAPP 10653 51" *
SOURCE_IMAGE_DATE 1998 9 15 *
SOURCE_IMAGE_ID "NAPP 10653 52" *
SOURCE_IMAGE_DATE 1998 9 15 *
SOURCE_IMAGE_ID "NAPP 10653 53" *
SOURCE_IMAGE_DATE 1998 9 15 *
SOURCE_DEM_DATE 2003 1 1 *
AGENCY "WESTERN MAPPING CENTER (WMC)" *
PRODUCER "USDA FS GEOSPATIAL SERVICE AND TECHNOLOGY CENTER" *
PRODUCTION_SYSTEM "ORBIT OR_RECTIFY V.5.2" *
STANDARD_VERSION 1996 12 *
METADATA_DATE 2003 3 19 *
DATA_FILE_SIZE 44087771 *
BYTE_COUNT 5719 *
