FILENAME: O4611454.NWS.1068262.tif
QUADRANGLE_NAME: WARD MOUNTAIN
QUADRANT: NW
WEST_LONGITUDE: -114 22 30.00000
EAST_LONGITUDE: -114 18 45.00000
NORTH_LATITUDE: 46 15 0.00000
SOUTH_LATITUDE: 46 11 15.00000
PRODUCTION_DATE: 2000 3 9
RASTER_ORDER: LEFT_RIGHT/TOP_BOTTOM
BAND_ORGANIZATION: SINGLE FILE
BAND_CONTENT: BLACK&WHITE
BAND_CONTENT: UNDEFINED
BAND_CONTENT: UNDEFINED
BITS_PER_PIXEL: 8
SAMPLES_AND_LINES: 5728 7720
HORIZONTAL_DATUM: NAD83
HORIZONTAL_COORDINATE_SYSTEM: UTM
COORDINATE_ZONE: 11
HORIZONTAL_UNITS: METERS
HORIZONTAL_RESOLUTION: 1.00000
SECONDARY_HORIZONTAL_DATUM: NAD27
XY_ORIGIN: 701966.00000 5125636.00000
SECONDARY_XY_ORIGIN: 702043.63100 5125429.08100
NATION: US
NATION: "SCIENCE
STATE: MT
NW_QUAD_CORNER_XY: 702339.45300 5125174.18400
NE_QUAD_CORNER_XY: 707156.91000 5125335.63200
SE_QUAD_CORNERY_XY: 707392.24900 5118391.50400
SW_QUAD_CORNER_XY: 702569.31200 5118230.04100
SECONDARY_NW_QUAD_XY: 702345.59100 5124956.15300
SECONDARY_NE_QUAD_XY: 707163.19400 5125117.60600
SECONDARY_SE_QUAD_XY: 707398.53200 5118173.51700
SECONDARY_SW_QUAD_XY: 702575.44800 5118012.04900
RMSE_XY: 2.90000
IMAGE_SOURCE: BLACK AND WHITE FILM
SOURCE_IMAGE_ID: NAPP 8407 044
SOURCE_IMAGE_DATE: 1995 08 19
SOURCE_IMAGE_ID: NAPP 8407 043
SOURCE_IMAGE_DATE: 1995 08 19
SOURCE_IMAGE_ID: NAPP 8407 045
SOURCE_IMAGE_DATE: 1995 08 19
SOURCE_IMAGE_ID: NAPP 8407 046
SOURCE_IMAGE_DATE: 1995 08 19
SOURCE_IMAGE_ID: NAPP 8407 167
SOURCE_IMAGE_DATE: 1995 08 19
SOURCE_DEM_DATE: 1997 00 00
AGENCY: WESTERN MAPPING CENTER (WMC)
PRODUCER: UNDEFINED
PRODUCTION_SYSTEM: GIS/MAGIC
COMPRESSION: UNDEFINED
STANDARD_VERSION: 1996 12
METADATA_DATE: 2000 04 20
DATA_FILE_SIZE: 44225888
BYTE_COUNT: 5728
