FILENAME: O4611456.SES.1068767.tif
QUADRANGLE_NAME: MOUNTAIN HOUSE
QUADRANT: SE
WEST_LONGITUDE: -114 3 45.00000
EAST_LONGITUDE: -114 0 0.00000
NORTH_LATITUDE: 46 11 15.00000
SOUTH_LATITUDE: 46 7 30.00000
PRODUCTION_DATE: 2000 3 9
RASTER_ORDER: LEFT_RIGHT/TOP_BOTTOM
BAND_ORGANIZATION: SINGLE FILE
BAND_CONTENT: BLACK&WHITE
BAND_CONTENT: UNDEFINED
BAND_CONTENT: UNDEFINED
BITS_PER_PIXEL: 8
SAMPLES_AND_LINES: 5760 7739
HORIZONTAL_DATUM: NAD83
HORIZONTAL_COORDINATE_SYSTEM: UTM
COORDINATE_ZONE: 11
HORIZONTAL_UNITS: METERS
HORIZONTAL_RESOLUTION: 1.00000
SECONDARY_HORIZONTAL_DATUM: NAD27
XY_ORIGIN: 726311.00000 5119556.00000
SECONDARY_XY_ORIGIN: 726388.80000 5119349.40500
NATION: US
NATION: "SCIENCE
STATE: MT
NW_QUAD_CORNER_XY: 726683.89300 5119075.40400
NE_QUAD_CORNER_XY: 731506.77700 5119255.89300
SE_QUAD_CORNERY_XY: 731769.24800 5112311.89900
SW_QUAD_CORNER_XY: 726940.88700 5112131.39500
SECONDARY_NW_QUAD_XY: 726690.76100 5118857.43700
SECONDARY_NE_QUAD_XY: 731513.79100 5119037.93200
SECONDARY_SE_QUAD_XY: 731776.26100 5112093.97800
SECONDARY_SW_QUAD_XY: 726947.75300 5111913.46800
RMSE_XY: 2.80000
IMAGE_SOURCE: BLACK AND WHITE FILM
SOURCE_IMAGE_ID: NAPP 8406 038
SOURCE_IMAGE_DATE: 1995 07 31
SOURCE_IMAGE_ID: NAPP 8406 041
SOURCE_IMAGE_DATE: 1995 07 31
SOURCE_IMAGE_ID: NAPP 8406 249
SOURCE_IMAGE_DATE: 1995 07 31
SOURCE_IMAGE_ID: NAPP 8406 037
SOURCE_IMAGE_DATE: 1995 07 31
SOURCE_DEM_DATE: 1997 00 00
AGENCY: WESTERN MAPPING CENTER (WMC)
PRODUCER: UNDEFINED
PRODUCTION_SYSTEM: GIS/MAGIC
COMPRESSION: UNDEFINED
STANDARD_VERSION: 1996 12
METADATA_DATE: 2000 04 20
DATA_FILE_SIZE: 44582400
BYTE_COUNT: 5760
