FILENAME: O4611301.NWS.1078735.tif
QUADRANGLE_NAME: NORTHEAST MISSOULA
QUADRANT: NW
WEST_LONGITUDE: -114 0 0.00000
EAST_LONGITUDE: -113 56 15.00000
NORTH_LATITUDE: 47 0 0.00000
SOUTH_LATITUDE: 46 56 15.00000
PRODUCTION_DATE: 2000 5 24
RASTER_ORDER: LEFT_RIGHT/TOP_BOTTOM
BAND_ORGANIZATION: SINGLE FILE
BAND_CONTENT: BLACK&WHITE
BAND_CONTENT: UNDEFINED
BAND_CONTENT: UNDEFINED
BITS_PER_PIXEL: 8
SAMPLES_AND_LINES: 5692 7733
HORIZONTAL_DATUM: NAD83
HORIZONTAL_COORDINATE_SYSTEM: UTM
COORDINATE_ZONE: 12
HORIZONTAL_UNITS: METERS
HORIZONTAL_RESOLUTION: 1.00000
SECONDARY_HORIZONTAL_DATUM: NAD27
XY_ORIGIN: 271291.00000 5209833.00000
SECONDARY_XY_ORIGIN: 271356.00500 5209620.30400
NATION: US
NATION: "SCIENCE
STATE: MT
NW_QUAD_CORNER_XY: 271930.43500 5209532.84800
NE_QUAD_CORNER_XY: 276681.59300 5209352.64200
SE_QUAD_CORNERY_XY: 276421.09800 5202407.90200
SW_QUAD_CORNER_XY: 271664.38800 5202588.13400
SECONDARY_NW_QUAD_XY: 271923.40500 5209314.44800
SECONDARY_NE_QUAD_XY: 276674.70900 5209134.23700
SECONDARY_SE_QUAD_XY: 276414.21500 5202189.52500
SECONDARY_SW_QUAD_XY: 271657.35900 5202369.76300
RMSE_XY: 2.00000
IMAGE_SOURCE: BLACK AND WHITE FILM
SOURCE_IMAGE_ID: NAPP 8389 048
SOURCE_IMAGE_DATE: 1995 07 31
SOURCE_IMAGE_ID: NAPP 8389 047
SOURCE_IMAGE_DATE: 1995 07 31
SOURCE_IMAGE_ID: NAPP 8389 049
SOURCE_IMAGE_DATE: 1995 07 31
SOURCE_DEM_DATE: 2000 01 01
AGENCY: WESTERN MAPPING CENTER (WMC)
PRODUCER: UNDEFINED
PRODUCTION_SYSTEM: GIS/MAGIC
COMPRESSION: UNDEFINED
STANDARD_VERSION: 1996 12
METADATA_DATE: 2000 05 27
DATA_FILE_SIZE: 44021928
BYTE_COUNT: 5692
