FILENAME: O4611302.NES.1078759.tif
QUADRANGLE_NAME: BLUE POINT
QUADRANT: NE
WEST_LONGITUDE: -113 48 45.00000
EAST_LONGITUDE: -113 45 0.00000
NORTH_LATITUDE: 47 0 0.00000
SOUTH_LATITUDE: 46 56 15.00000
PRODUCTION_DATE: 2000 5 24
RASTER_ORDER: LEFT_RIGHT/TOP_BOTTOM
BAND_ORGANIZATION: SINGLE FILE
BAND_CONTENT: BLACK&WHITE
BAND_CONTENT: UNDEFINED
BAND_CONTENT: UNDEFINED
BITS_PER_PIXEL: 8
SAMPLES_AND_LINES: 5675 7722
HORIZONTAL_DATUM: NAD83
HORIZONTAL_COORDINATE_SYSTEM: UTM
COORDINATE_ZONE: 12
HORIZONTAL_UNITS: METERS
HORIZONTAL_RESOLUTION: 1.00000
SECONDARY_HORIZONTAL_DATUM: NAD27
XY_ORIGIN: 285562.00000 5209304.00000
SECONDARY_XY_ORIGIN: 285626.72300 5209091.10100
NATION: US
NATION: "SCIENCE
STATE: MT
NW_QUAD_CORNER_XY: 286183.96500 5209003.62900
NE_QUAD_CORNER_XY: 290935.17800 5208834.82200
SE_QUAD_CORNERY_XY: 290691.33400 5201890.00400
SW_QUAD_CORNER_XY: 285934.57100 5202058.83700
SECONDARY_NW_QUAD_XY: 286177.37400 5208785.21300
SECONDARY_NE_QUAD_XY: 290928.73400 5208616.40000
SECONDARY_SE_QUAD_XY: 290684.89000 5201671.61100
SECONDARY_SW_QUAD_XY: 285927.98100 5201840.44900
RMSE_XY: 2.40000
IMAGE_SOURCE: BLACK AND WHITE FILM
SOURCE_IMAGE_ID: NAPP 8389 153
SOURCE_IMAGE_DATE: 1995 07 31
SOURCE_IMAGE_ID: NAPP 8393 003
SOURCE_IMAGE_DATE: 1995 08 19
SOURCE_IMAGE_ID: NAPP 8393 002
SOURCE_IMAGE_DATE: 1995 08 19
SOURCE_IMAGE_ID: NAPP 8389 154
SOURCE_IMAGE_DATE: 1995 07 31
SOURCE_IMAGE_ID: NAPP 8389 152
SOURCE_IMAGE_DATE: 1995 07 31
SOURCE_DEM_DATE: 1989 00 00
AGENCY: WESTERN MAPPING CENTER (WMC)
PRODUCER: UNDEFINED
PRODUCTION_SYSTEM: GIS/MAGIC
COMPRESSION: UNDEFINED
STANDARD_VERSION: 1996 12
METADATA_DATE: 2000 05 27
DATA_FILE_SIZE: 43828025
BYTE_COUNT: 5675
