FILENAME: O4611303.NWS.1078808.tif
QUADRANGLE_NAME: SUNFLOWER MOUNTAIN
QUADRANT: NW
WEST_LONGITUDE: -113 45 0.00000
EAST_LONGITUDE: -113 41 15.00000
NORTH_LATITUDE: 47 0 0.00000
SOUTH_LATITUDE: 46 56 15.00000
PRODUCTION_DATE: 2000 5 24
RASTER_ORDER: LEFT_RIGHT/TOP_BOTTOM
BAND_ORGANIZATION: SINGLE FILE
BAND_CONTENT: BLACK&WHITE
BAND_CONTENT: UNDEFINED
BAND_CONTENT: UNDEFINED
BITS_PER_PIXEL: 8
SAMPLES_AND_LINES: 5669 7718
HORIZONTAL_DATUM: NAD83
HORIZONTAL_COORDINATE_SYSTEM: UTM
COORDINATE_ZONE: 12
HORIZONTAL_UNITS: METERS
HORIZONTAL_RESOLUTION: 1.00000
SECONDARY_HORIZONTAL_DATUM: NAD27
XY_ORIGIN: 290319.00000 5209135.00000
SECONDARY_XY_ORIGIN: 290383.63300 5208922.03100
NATION: US
NATION: "SCIENCE
STATE: MT
NW_QUAD_CORNER_XY: 290935.17800 5208834.82200
NE_QUAD_CORNER_XY: 295686.40800 5208669.81300
SE_QUAD_CORNERY_XY: 295448.11300 5201724.97000
SW_QUAD_CORNER_XY: 290691.33400 5201890.00400
SECONDARY_NW_QUAD_XY: 290928.73400 5208616.40000
SECONDARY_NE_QUAD_XY: 295680.11000 5208451.38600
SECONDARY_SE_QUAD_XY: 295441.81600 5201506.57300
SECONDARY_SW_QUAD_XY: 290684.89000 5201671.61100
RMSE_XY: 1.80000
IMAGE_SOURCE: BLACK AND WHITE FILM
SOURCE_IMAGE_ID: NAPP 8389 150
SOURCE_IMAGE_DATE: 1995 07 31
SOURCE_IMAGE_ID: NAPP 8389 154
SOURCE_IMAGE_DATE: 1995 07 31
SOURCE_IMAGE_ID: NAPP 8389 152
SOURCE_IMAGE_DATE: 1995 07 31
SOURCE_IMAGE_ID: NAPP 8389 148
SOURCE_IMAGE_DATE: 1995 07 31
SOURCE_IMAGE_ID: NAPP 8389 149
SOURCE_IMAGE_DATE: 1995 07 31
SOURCE_DEM_DATE: 1989 00 00
AGENCY: WESTERN MAPPING CENTER (WMC)
PRODUCER: UNDEFINED
PRODUCTION_SYSTEM: GIS/MAGIC
COMPRESSION: UNDEFINED
STANDARD_VERSION: 1996 12
METADATA_DATE: 2000 05 27
DATA_FILE_SIZE: 43759011
BYTE_COUNT: 5669
