FILENAME: O4611304.SES.1078821.tif
QUADRANGLE_NAME: POTOMAC
QUADRANT: SE
WEST_LONGITUDE: -113 33 45.00000
EAST_LONGITUDE: -113 30 0.00000
NORTH_LATITUDE: 46 56 15.00000
SOUTH_LATITUDE: 46 52 30.00000
PRODUCTION_DATE: 2000 5 24
RASTER_ORDER: LEFT_RIGHT/TOP_BOTTOM
BAND_ORGANIZATION: SINGLE FILE
BAND_CONTENT: BLACK&WHITE
BAND_CONTENT: UNDEFINED
BAND_CONTENT: UNDEFINED
BITS_PER_PIXEL: 8
SAMPLES_AND_LINES: 5657 7707
HORIZONTAL_DATUM: NAD83
HORIZONTAL_COORDINATE_SYSTEM: UTM
COORDINATE_ZONE: 12
HORIZONTAL_UNITS: METERS
HORIZONTAL_RESOLUTION: 1.00000
SECONDARY_HORIZONTAL_DATUM: NAD27
XY_ORIGIN: 304363.00000 5201707.00000
SECONDARY_XY_ORIGIN: 304427.33400 5201493.97300
NATION: US
NATION: "SCIENCE
STATE: MT
NW_QUAD_CORNER_XY: 304961.72000 5201406.29900
NE_QUAD_CORNER_XY: 309718.54700 5201252.66100
SE_QUAD_CORNERY_XY: 309497.12500 5194307.81000
SW_QUAD_CORNER_XY: 304734.75600 5194461.47100
SECONDARY_NW_QUAD_XY: 304955.71600 5201187.89200
SECONDARY_NE_QUAD_XY: 309712.69000 5201034.24900
SECONDARY_SE_QUAD_XY: 309491.26900 5194089.42800
SECONDARY_SW_QUAD_XY: 304728.75300 5194243.09300
RMSE_XY: 1.90000
IMAGE_SOURCE: BLACK AND WHITE FILM
SOURCE_IMAGE_ID: NAPP 8391 214
SOURCE_IMAGE_DATE: 1995 08 01
SOURCE_IMAGE_ID: NAPP 8391 213
SOURCE_IMAGE_DATE: 1995 08 01
SOURCE_DEM_DATE: 1988 00 00
AGENCY: WESTERN MAPPING CENTER (WMC)
PRODUCER: UNDEFINED
PRODUCTION_SYSTEM: GIS/MAGIC
COMPRESSION: UNDEFINED
STANDARD_VERSION: 1996 12
METADATA_DATE: 2000 05 27
DATA_FILE_SIZE: 43604156
BYTE_COUNT: 5657
