FILENAME: O4611304.NWS.1078820.tif
QUADRANGLE_NAME: POTOMAC
QUADRANT: NW
WEST_LONGITUDE: -113 37 30.00000
EAST_LONGITUDE: -113 33 45.00000
NORTH_LATITUDE: 47 0 0.00000
SOUTH_LATITUDE: 46 56 15.00000
PRODUCTION_DATE: 2000 5 24
RASTER_ORDER: LEFT_RIGHT/TOP_BOTTOM
BAND_ORGANIZATION: SINGLE FILE
BAND_CONTENT: BLACK&WHITE
BAND_CONTENT: UNDEFINED
BAND_CONTENT: UNDEFINED
BITS_PER_PIXEL: 8
SAMPLES_AND_LINES: 5657 7711
HORIZONTAL_DATUM: NAD83
HORIZONTAL_COORDINATE_SYSTEM: UTM
COORDINATE_ZONE: 12
HORIZONTAL_UNITS: METERS
HORIZONTAL_RESOLUTION: 1.00000
SECONDARY_HORIZONTAL_DATUM: NAD27
XY_ORIGIN: 299833.00000 5208809.00000
SECONDARY_XY_ORIGIN: 299897.35200 5208595.91400
NATION: US
NATION: "SCIENCE
STATE: MT
NW_QUAD_CORNER_XY: 300437.65500 5208508.60200
NE_QUAD_CORNER_XY: 305188.91800 5208351.18900
SE_QUAD_CORNERY_XY: 304961.72000 5201406.29900
SW_QUAD_CORNER_XY: 300204.90900 5201563.73600
SECONDARY_NW_QUAD_XY: 300431.50300 5208290.17100
SECONDARY_NE_QUAD_XY: 305182.91300 5208132.75300
SECONDARY_SE_QUAD_XY: 304955.71600 5201187.89200
SECONDARY_SW_QUAD_XY: 300198.75800 5201345.33300
RMSE_XY: 2.50000
IMAGE_SOURCE: BLACK AND WHITE FILM
SOURCE_IMAGE_ID: NAPP 8403 014
SOURCE_IMAGE_DATE: 1995 09 02
SOURCE_IMAGE_ID: NAPP 8403 013
SOURCE_IMAGE_DATE: 1995 09 02
SOURCE_IMAGE_ID: NAPP 8403 015
SOURCE_IMAGE_DATE: 1995 09 02
SOURCE_DEM_DATE: 1988 00 00
AGENCY: WESTERN MAPPING CENTER (WMC)
PRODUCER: UNDEFINED
PRODUCTION_SYSTEM: GIS/MAGIC
COMPRESSION: UNDEFINED
STANDARD_VERSION: 1996 12
METADATA_DATE: 2000 05 27
DATA_FILE_SIZE: 43626784
BYTE_COUNT: 5657
