FILENAME: O4611306.NWS.1078856.tif
QUADRANGLE_NAME: BATA MOUNTAIN
QUADRANT: NW
WEST_LONGITUDE: -113 22 30.00000
EAST_LONGITUDE: -113 18 45.00000
NORTH_LATITUDE: 47 0 0.00000
SOUTH_LATITUDE: 46 56 15.00000
PRODUCTION_DATE: 2000 5 27
RASTER_ORDER: LEFT_RIGHT/TOP_BOTTOM
BAND_ORGANIZATION: SINGLE FILE
BAND_CONTENT: BLACK&WHITE
BAND_CONTENT: UNDEFINED
BAND_CONTENT: UNDEFINED
BITS_PER_PIXEL: 8
SAMPLES_AND_LINES: 5635 7695
HORIZONTAL_DATUM: NAD83
HORIZONTAL_COORDINATE_SYSTEM: UTM
COORDINATE_ZONE: 12
HORIZONTAL_UNITS: METERS
HORIZONTAL_RESOLUTION: 1.00000
SECONDARY_HORIZONTAL_DATUM: NAD27
XY_ORIGIN: 318861.00000 5208202.00000
SECONDARY_XY_ORIGIN: 318924.74800 5207988.69600
NATION: US
NATION: "SCIENCE
STATE: MT
NW_QUAD_CORNER_XY: 319442.80300 5207901.73500
NE_QUAD_CORNER_XY: 324194.12800 5207759.51000
SE_QUAD_CORNERY_XY: 323989.11900 5200814.53300
SW_QUAD_CORNER_XY: 319232.24700 5200956.77800
SECONDARY_NW_QUAD_XY: 319437.23800 5207683.28500
SECONDARY_NE_QUAD_XY: 324188.70900 5207541.05600
SECONDARY_SE_QUAD_XY: 323983.70100 5200596.10700
SECONDARY_SW_QUAD_XY: 319226.68300 5200738.35700
RMSE_XY: 4.00000
IMAGE_SOURCE: BLACK AND WHITE FILM
SOURCE_IMAGE_ID: NAPP 8390 063
SOURCE_IMAGE_DATE: 1995 07 31
SOURCE_IMAGE_ID: NAPP 8390 062
SOURCE_IMAGE_DATE: 1995 07 31
SOURCE_IMAGE_ID: NAPP 8390 064
SOURCE_IMAGE_DATE: 1995 07 31
SOURCE_IMAGE_ID: NAPP 8396 117
SOURCE_IMAGE_DATE: 1995 08 27
SOURCE_DEM_DATE: 1977 00 00
AGENCY: WESTERN MAPPING CENTER (WMC)
PRODUCER: UNDEFINED
PRODUCTION_SYSTEM: GIS/MAGIC
COMPRESSION: UNDEFINED
STANDARD_VERSION: 1996 12
METADATA_DATE: 2000 05 27
DATA_FILE_SIZE: 43366960
BYTE_COUNT: 5635
