FILENAME: O4611307.SES.1078877.tif
QUADRANGLE_NAME: CHAMBERLAIN MOUNTAIN
QUADRANT: SE
WEST_LONGITUDE: -113 11 15.00000
EAST_LONGITUDE: -113 7 30.00000
NORTH_LATITUDE: 46 56 15.00000
SOUTH_LATITUDE: 46 52 30.00000
PRODUCTION_DATE: 2000 5 24
RASTER_ORDER: LEFT_RIGHT/TOP_BOTTOM
BAND_ORGANIZATION: SINGLE FILE
BAND_CONTENT: BLACK&WHITE
BAND_CONTENT: UNDEFINED
BAND_CONTENT: UNDEFINED
BITS_PER_PIXEL: 8
SAMPLES_AND_LINES: 5622 7684
HORIZONTAL_DATUM: NAD83
HORIZONTAL_COORDINATE_SYSTEM: UTM
COORDINATE_ZONE: 12
HORIZONTAL_UNITS: METERS
HORIZONTAL_RESOLUTION: 1.00000
SECONDARY_HORIZONTAL_DATUM: NAD27
XY_ORIGIN: 332939.00000 5200842.00000
SECONDARY_XY_ORIGIN: 333002.42200 5200628.75800
NATION: US
NATION: "SCIENCE
STATE: MT
NW_QUAD_CORNER_XY: 333502.90400 5200541.43200
NE_QUAD_CORNER_XY: 338259.81600 5200410.57600
SE_QUAD_CORNERY_XY: 338071.63800 5193465.60400
SW_QUAD_CORNER_XY: 333309.18600 5193596.47900
SECONDARY_NW_QUAD_XY: 333497.77900 5200322.99800
SECONDARY_NE_QUAD_XY: 338254.83800 5200192.13800
SECONDARY_SE_QUAD_XY: 338066.66000 5193247.19600
SECONDARY_SW_QUAD_XY: 333304.06100 5193378.07400
RMSE_XY: 4.90000
IMAGE_SOURCE: BLACK AND WHITE FILM
SOURCE_IMAGE_ID: NAPP 8398 162
SOURCE_IMAGE_DATE: 1995 08 28
SOURCE_IMAGE_ID: NAPP 8398 163
SOURCE_IMAGE_DATE: 1995 08 28
SOURCE_IMAGE_ID: NAPP 8398 161
SOURCE_IMAGE_DATE: 1995 08 28
SOURCE_DEM_DATE: 1961 00 00
AGENCY: WESTERN MAPPING CENTER (WMC)
PRODUCER: UNDEFINED
PRODUCTION_SYSTEM: GIS/MAGIC
COMPRESSION: UNDEFINED
STANDARD_VERSION: 1996 12
METADATA_DATE: 2000 05 27
DATA_FILE_SIZE: 43205070
BYTE_COUNT: 5622
