FILENAME: O4611308.NES.1078887.tif
QUADRANGLE_NAME: BROWNS LAKE
QUADRANT: NE
WEST_LONGITUDE: -113 3 45.00000
EAST_LONGITUDE: -113 0 0.00000
NORTH_LATITUDE: 47 0 0.00000
SOUTH_LATITUDE: 46 56 15.00000
PRODUCTION_DATE: 2000 5 24
RASTER_ORDER: LEFT_RIGHT/TOP_BOTTOM
BAND_ORGANIZATION: SINGLE FILE
BAND_CONTENT: BLACK&WHITE
BAND_CONTENT: UNDEFINED
BAND_CONTENT: UNDEFINED
BITS_PER_PIXEL: 8
SAMPLES_AND_LINES: 5605 7676
HORIZONTAL_DATUM: NAD83
HORIZONTAL_COORDINATE_SYSTEM: UTM
COORDINATE_ZONE: 12
HORIZONTAL_UNITS: METERS
HORIZONTAL_RESOLUTION: 1.00000
SECONDARY_HORIZONTAL_DATUM: NAD27
XY_ORIGIN: 342647.00000 5207529.00000
SECONDARY_XY_ORIGIN: 342709.95600 5207315.52600
NATION: US
NATION: "SCIENCE
STATE: MT
NW_QUAD_CORNER_XY: 343199.56900 5207228.57300
NE_QUAD_CORNER_XY: 347950.96300 5207105.32700
SE_QUAD_CORNERY_XY: 347773.68000 5200160.25200
SW_QUAD_CORNER_XY: 343016.74200 5200283.51600
SECONDARY_NW_QUAD_XY: 343194.73700 5207010.10200
SECONDARY_NE_QUAD_XY: 347946.27700 5206886.85200
SECONDARY_SE_QUAD_XY: 347768.99400 5199941.80600
SECONDARY_SW_QUAD_XY: 343011.91000 5200065.07400
RMSE_XY: 2.10000
IMAGE_SOURCE: BLACK AND WHITE FILM
SOURCE_IMAGE_ID: NAPP 8399 028
SOURCE_IMAGE_DATE: 1995 08 28
SOURCE_DEM_DATE: 1977 00 00
AGENCY: WESTERN MAPPING CENTER (WMC)
PRODUCER: UNDEFINED
PRODUCTION_SYSTEM: GIS/MAGIC
COMPRESSION: UNDEFINED
STANDARD_VERSION: 1996 12
METADATA_DATE: 2000 05 27
DATA_FILE_SIZE: 43029585
BYTE_COUNT: 5605
