FILENAME: O4611309.SWS.1078741.tif
QUADRANGLE_NAME: SOUTHEAST MISSOULA
QUADRANT: SW
WEST_LONGITUDE: -114 0 0.00000
EAST_LONGITUDE: -113 56 15.00000
NORTH_LATITUDE: 46 48 45.00000
SOUTH_LATITUDE: 46 45 0.00000
PRODUCTION_DATE: 2000 3 26
RASTER_ORDER: LEFT_RIGHT/TOP_BOTTOM
BAND_ORGANIZATION: SINGLE FILE
BAND_CONTENT: BLACK&WHITE
BAND_CONTENT: UNDEFINED
BAND_CONTENT: UNDEFINED
BITS_PER_PIXEL: 8
SAMPLES_AND_LINES: 5708 7733
HORIZONTAL_DATUM: NAD83
HORIZONTAL_COORDINATE_SYSTEM: UTM
COORDINATE_ZONE: 12
HORIZONTAL_UNITS: METERS
HORIZONTAL_RESOLUTION: 1.00000
SECONDARY_HORIZONTAL_DATUM: NAD27
XY_ORIGIN: 270494.00000 5188999.00000
SECONDARY_XY_ORIGIN: 270559.22600 5188786.43900
NATION: US
NATION: "SCIENCE
STATE: MT
NW_QUAD_CORNER_XY: 271133.11400 5188698.87300
NE_QUAD_CORNER_XY: 275900.91000 5188518.58900
SE_QUAD_CORNERY_XY: 275641.21800 5181574.01800
SW_QUAD_CORNER_XY: 270867.88800 5181754.32600
SECONDARY_NW_QUAD_XY: 271126.08700 5188480.56200
SECONDARY_NE_QUAD_XY: 275894.02900 5188300.27300
SECONDARY_SE_QUAD_XY: 275634.33900 5181355.73200
SECONDARY_SW_QUAD_XY: 270860.86200 5181536.04600
RMSE_XY: 3.20000
IMAGE_SOURCE: BLACK AND WHITE FILM
SOURCE_IMAGE_ID: NAPP 8389 042
SOURCE_IMAGE_DATE: 1995 07 31
SOURCE_IMAGE_ID: NAPP 8389 041
SOURCE_IMAGE_DATE: 1995 07 31
SOURCE_IMAGE_ID: NAPP 8389 043
SOURCE_IMAGE_DATE: 1995 07 31
SOURCE_DEM_DATE: 1978 00 00
AGENCY: WESTERN MAPPING CENTER (WMC)
PRODUCER: UNDEFINED
PRODUCTION_SYSTEM: GIS/MAGIC
COMPRESSION: UNDEFINED
STANDARD_VERSION: 1996 12
METADATA_DATE: 2000 05 27
DATA_FILE_SIZE: 44145672
BYTE_COUNT: 5708
