FILENAME: O4611309.NES.1078738.tif
QUADRANGLE_NAME: SOUTHEAST MISSOULA
QUADRANT: NE
WEST_LONGITUDE: -113 56 15.00000
EAST_LONGITUDE: -113 52 30.00000
NORTH_LATITUDE: 46 52 30.00000
SOUTH_LATITUDE: 46 48 45.00000
PRODUCTION_DATE: 2000 3 26
RASTER_ORDER: LEFT_RIGHT/TOP_BOTTOM
BAND_ORGANIZATION: SINGLE FILE
BAND_CONTENT: BLACK&WHITE
BAND_CONTENT: UNDEFINED
BAND_CONTENT: UNDEFINED
BITS_PER_PIXEL: 8
SAMPLES_AND_LINES: 5698 7730
HORIZONTAL_DATUM: NAD83
HORIZONTAL_COORDINATE_SYSTEM: UTM
COORDINATE_ZONE: 12
HORIZONTAL_UNITS: METERS
HORIZONTAL_RESOLUTION: 1.00000
SECONDARY_HORIZONTAL_DATUM: NAD27
XY_ORIGIN: 275527.00000 5195764.00000
SECONDARY_XY_ORIGIN: 275592.06700 5195551.34300
NATION: US
NATION: "SCIENCE
STATE: MT
NW_QUAD_CORNER_XY: 276160.87000 5195463.21700
NE_QUAD_CORNER_XY: 280923.14300 5195286.75900
SE_QUAD_CORNERY_XY: 280668.72300 5188342.10700
SW_QUAD_CORNER_XY: 275900.91000 5188518.58900
SECONDARY_NW_QUAD_XY: 276153.98800 5195244.87000
SECONDARY_NE_QUAD_XY: 280916.40800 5195068.40700
SECONDARY_SE_QUAD_XY: 280661.98800 5188123.78500
SECONDARY_SW_QUAD_XY: 275894.02900 5188300.27300
RMSE_XY: 2.90000
IMAGE_SOURCE: BLACK AND WHITE FILM
SOURCE_IMAGE_ID: NAPP 8389 059
SOURCE_IMAGE_DATE: 1995 07 31
SOURCE_IMAGE_ID: NAPP 8389 060
SOURCE_IMAGE_DATE: 1995 07 31
SOURCE_IMAGE_ID: NAPP 8389 058
SOURCE_IMAGE_DATE: 1995 07 31
SOURCE_DEM_DATE: 1978 00 00
AGENCY: WESTERN MAPPING CENTER (WMC)
PRODUCER: UNDEFINED
PRODUCTION_SYSTEM: GIS/MAGIC
COMPRESSION: UNDEFINED
STANDARD_VERSION: 1996 12
METADATA_DATE: 2000 05 27
DATA_FILE_SIZE: 44051238
BYTE_COUNT: 5698
