FILENAME: O4611311.NWS.1078796.tif
QUADRANGLE_NAME: CLINTON
QUADRANT: NW
WEST_LONGITUDE: -113 45 0.00000
EAST_LONGITUDE: -113 41 15.00000
NORTH_LATITUDE: 46 52 30.00000
SOUTH_LATITUDE: 46 48 45.00000
PRODUCTION_DATE: 2000 3 27
RASTER_ORDER: LEFT_RIGHT/TOP_BOTTOM
BAND_ORGANIZATION: SINGLE FILE
BAND_CONTENT: BLACK&WHITE
BAND_CONTENT: UNDEFINED
BAND_CONTENT: UNDEFINED
BITS_PER_PIXEL: 8
SAMPLES_AND_LINES: 5680 7719
HORIZONTAL_DATUM: NAD83
HORIZONTAL_COORDINATE_SYSTEM: UTM
COORDINATE_ZONE: 12
HORIZONTAL_UNITS: METERS
HORIZONTAL_RESOLUTION: 1.00000
SECONDARY_HORIZONTAL_DATUM: NAD27
XY_ORIGIN: 289832.00000 5195246.00000
SECONDARY_XY_ORIGIN: 289896.81500 5195033.18900
NATION: US
NATION: "SCIENCE
STATE: MT
NW_QUAD_CORNER_XY: 290447.74000 5194945.24500
NE_QUAD_CORNER_XY: 295210.06300 5194780.18700
SE_QUAD_CORNERY_XY: 294972.25800 5187835.46400
SW_QUAD_CORNER_XY: 290204.39700 5188000.54500
SECONDARY_NW_QUAD_XY: 290441.29800 5194726.88200
SECONDARY_NE_QUAD_XY: 295203.76700 5194561.81900
SECONDARY_SE_QUAD_XY: 294965.96300 5187617.12600
SECONDARY_SW_QUAD_XY: 290197.95600 5187782.21200
RMSE_XY: 4.80000
IMAGE_SOURCE: BLACK AND WHITE FILM
SOURCE_IMAGE_ID: NAPP 8389 146
SOURCE_IMAGE_DATE: 1995 07 31
SOURCE_IMAGE_ID: NAPP 8389 158
SOURCE_IMAGE_DATE: 1995 07 31
SOURCE_IMAGE_ID: NAPP 8389 145
SOURCE_IMAGE_DATE: 1995 07 31
SOURCE_IMAGE_ID: NAPP 8389 147
SOURCE_IMAGE_DATE: 1995 07 31
SOURCE_IMAGE_ID: NAPP 8393 138
SOURCE_IMAGE_DATE: 1995 08 19
SOURCE_DEM_DATE: 1965 00 00
AGENCY: WESTERN MAPPING CENTER (WMC)
PRODUCER: UNDEFINED
PRODUCTION_SYSTEM: GIS/MAGIC
COMPRESSION: UNDEFINED
STANDARD_VERSION: 1996 12
METADATA_DATE: 2000 05 27
DATA_FILE_SIZE: 43849600
BYTE_COUNT: 5680
