FILENAME: O4611312.SWS.1078826.tif
QUADRANGLE_NAME: MINERAL RIDGE
QUADRANT: SW
WEST_LONGITUDE: -113 37 30.00000
EAST_LONGITUDE: -113 33 45.00000
NORTH_LATITUDE: 46 48 45.00000
SOUTH_LATITUDE: 46 45 0.00000
PRODUCTION_DATE: 2000 3 26
RASTER_ORDER: LEFT_RIGHT/TOP_BOTTOM
BAND_ORGANIZATION: SINGLE FILE
BAND_CONTENT: BLACK&WHITE
BAND_CONTENT: UNDEFINED
BAND_CONTENT: UNDEFINED
BITS_PER_PIXEL: 8
SAMPLES_AND_LINES: 5674 7711
HORIZONTAL_DATUM: NAD83
HORIZONTAL_COORDINATE_SYSTEM: UTM
COORDINATE_ZONE: 12
HORIZONTAL_UNITS: METERS
HORIZONTAL_RESOLUTION: 1.00000
SECONDARY_HORIZONTAL_DATUM: NAD27
XY_ORIGIN: 299136.00000 5187975.00000
SECONDARY_XY_ORIGIN: 299200.68800 5187762.23200
NATION: US
NATION: "SCIENCE
STATE: MT
NW_QUAD_CORNER_XY: 299740.13400 5187674.18400
NE_QUAD_CORNER_XY: 304508.02500 5187516.70300
SE_QUAD_CORNERY_XY: 304281.52900 5180571.99600
SW_QUAD_CORNER_XY: 299508.10600 5180729.49800
SECONDARY_NW_QUAD_XY: 299733.98600 5187455.84100
SECONDARY_NE_QUAD_XY: 304502.02400 5187298.35500
SECONDARY_SE_QUAD_XY: 304275.52800 5180353.68000
SECONDARY_SW_QUAD_XY: 299501.95900 5180511.18700
RMSE_XY: 4.60000
IMAGE_SOURCE: BLACK AND WHITE FILM
SOURCE_IMAGE_ID: NAPP 8391 217
SOURCE_IMAGE_DATE: 1995 08 01
SOURCE_IMAGE_ID: NAPP 8393 134
SOURCE_IMAGE_DATE: 1995 08 19
SOURCE_IMAGE_ID: NAPP 8393 135
SOURCE_IMAGE_DATE: 1995 08 19
SOURCE_IMAGE_ID: NAPP 8389 256
SOURCE_IMAGE_DATE: 1995 07 31
SOURCE_IMAGE_ID: NAPP 8403 009
SOURCE_IMAGE_DATE: 1995 09 02
SOURCE_DEM_DATE: 1961 00 00
AGENCY: WESTERN MAPPING CENTER (WMC)
PRODUCER: UNDEFINED
PRODUCTION_SYSTEM: GIS/MAGIC
COMPRESSION: UNDEFINED
STANDARD_VERSION: 1996 12
METADATA_DATE: 2000 05 27
DATA_FILE_SIZE: 43757888
BYTE_COUNT: 5674
