FILENAME: O4611312.NES.1078823.tif
QUADRANGLE_NAME: MINERAL RIDGE
QUADRANT: NE
WEST_LONGITUDE: -113 33 45.00000
EAST_LONGITUDE: -113 30 0.00000
NORTH_LATITUDE: 46 52 30.00000
SOUTH_LATITUDE: 46 48 45.00000
PRODUCTION_DATE: 2000 3 26
RASTER_ORDER: LEFT_RIGHT/TOP_BOTTOM
BAND_ORGANIZATION: SINGLE FILE
BAND_CONTENT: BLACK&WHITE
BAND_CONTENT: UNDEFINED
BAND_CONTENT: UNDEFINED
BITS_PER_PIXEL: 8
SAMPLES_AND_LINES: 5663 7707
HORIZONTAL_DATUM: NAD83
HORIZONTAL_COORDINATE_SYSTEM: UTM
COORDINATE_ZONE: 12
HORIZONTAL_UNITS: METERS
HORIZONTAL_RESOLUTION: 1.00000
SECONDARY_HORIZONTAL_DATUM: NAD27
XY_ORIGIN: 304136.00000 5194762.00000
SECONDARY_XY_ORIGIN: 304200.45700 5194549.09200
NATION: US
NATION: "SCIENCE
STATE: MT
NW_QUAD_CORNER_XY: 304734.75600 5194461.47100
NE_QUAD_CORNER_XY: 309497.12500 5194307.81000
SE_QUAD_CORNERY_XY: 309275.93100 5187363.02100
SW_QUAD_CORNER_XY: 304508.02500 5187516.70300
SECONDARY_NW_QUAD_XY: 304728.75300 5194243.09300
SECONDARY_NE_QUAD_XY: 309491.26900 5194089.42800
SECONDARY_SE_QUAD_XY: 309270.07600 5187144.66900
SECONDARY_SW_QUAD_XY: 304502.02400 5187298.35500
RMSE_XY: 3.10000
IMAGE_SOURCE: BLACK AND WHITE FILM
SOURCE_IMAGE_ID: NAPP 8391 216
SOURCE_IMAGE_DATE: 1995 08 01
SOURCE_IMAGE_ID: NAPP 8403 009
SOURCE_IMAGE_DATE: 1995 09 02
SOURCE_IMAGE_ID: NAPP 8391 217
SOURCE_IMAGE_DATE: 1995 08 01
SOURCE_IMAGE_ID: NAPP 8391 215
SOURCE_IMAGE_DATE: 1995 08 01
SOURCE_DEM_DATE: 1961 00 00
AGENCY: WESTERN MAPPING CENTER (WMC)
PRODUCER: UNDEFINED
PRODUCTION_SYSTEM: GIS/MAGIC
COMPRESSION: UNDEFINED
STANDARD_VERSION: 1996 12
METADATA_DATE: 2000 05 27
DATA_FILE_SIZE: 43650404
BYTE_COUNT: 5663
