FILENAME: O4611316.SES.1078893.tif
QUADRANGLE_NAME: CHIMNEY LAKES
QUADRANT: SE
WEST_LONGITUDE: -113 3 45.00000
EAST_LONGITUDE: -113 0 0.00000
NORTH_LATITUDE: 46 48 45.00000
SOUTH_LATITUDE: 46 45 0.00000
PRODUCTION_DATE: 2000 4 3
RASTER_ORDER: LEFT_RIGHT/TOP_BOTTOM
BAND_ORGANIZATION: SINGLE FILE
BAND_CONTENT: BLACK&WHITE
BAND_CONTENT: UNDEFINED
BAND_CONTENT: UNDEFINED
BITS_PER_PIXEL: 8
SAMPLES_AND_LINES: 5622 7677
HORIZONTAL_DATUM: NAD83
HORIZONTAL_COORDINATE_SYSTEM: UTM
COORDINATE_ZONE: 12
HORIZONTAL_UNITS: METERS
HORIZONTAL_RESOLUTION: 1.00000
SECONDARY_HORIZONTAL_DATUM: NAD27
XY_ORIGIN: 342099.00000 5186694.00000
SECONDARY_XY_ORIGIN: 342162.45000 5186481.12300
NATION: US
NATION: "SCIENCE
STATE: MT
NW_QUAD_CORNER_XY: 342651.65100 5186393.60300
NE_QUAD_CORNER_XY: 347419.66000 5186270.30400
SE_QUAD_CORNERY_XY: 347242.92500 5179325.43000
SW_QUAD_CORNER_XY: 342469.38800 5179448.74600
SECONDARY_NW_QUAD_XY: 342646.82000 5186175.22100
SECONDARY_NE_QUAD_XY: 347414.97600 5186051.91800
SECONDARY_SE_QUAD_XY: 347238.24100 5179107.07600
SECONDARY_SW_QUAD_XY: 342464.55800 5179230.39500
RMSE_XY: 2.90000
IMAGE_SOURCE: BLACK AND WHITE FILM
SOURCE_IMAGE_ID: NAPP 8399 034
SOURCE_IMAGE_DATE: 1995 08 28
SOURCE_IMAGE_ID: NAPP 8398 185
SOURCE_IMAGE_DATE: 1995 08 28
SOURCE_IMAGE_ID: NAPP 8399 035
SOURCE_IMAGE_DATE: 1995 08 28
SOURCE_IMAGE_ID: NAPP 8399 033
SOURCE_IMAGE_DATE: 1995 08 28
SOURCE_DEM_DATE: 1991 00 00
AGENCY: WESTERN MAPPING CENTER (WMC)
PRODUCER: UNDEFINED
PRODUCTION_SYSTEM: GIS/MAGIC
COMPRESSION: UNDEFINED
STANDARD_VERSION: 1996 12
METADATA_DATE: 2000 05 27
DATA_FILE_SIZE: 43165716
BYTE_COUNT: 5622
