FILENAME: O4611316.NWS.1078892.tif
QUADRANGLE_NAME: CHIMNEY LAKES
QUADRANT: NW
WEST_LONGITUDE: -113 7 30.00000
EAST_LONGITUDE: -113 3 45.00000
NORTH_LATITUDE: 46 52 30.00000
SOUTH_LATITUDE: 46 48 45.00000
PRODUCTION_DATE: 2000 5 24
RASTER_ORDER: LEFT_RIGHT/TOP_BOTTOM
BAND_ORGANIZATION: SINGLE FILE
BAND_CONTENT: BLACK&WHITE
BAND_CONTENT: UNDEFINED
BAND_CONTENT: UNDEFINED
BITS_PER_PIXEL: 8
SAMPLES_AND_LINES: 5622 7680
HORIZONTAL_DATUM: NAD83
HORIZONTAL_COORDINATE_SYSTEM: UTM
COORDINATE_ZONE: 12
HORIZONTAL_UNITS: METERS
HORIZONTAL_RESOLUTION: 1.00000
SECONDARY_HORIZONTAL_DATUM: NAD27
XY_ORIGIN: 337514.00000 5193766.00000
SECONDARY_XY_ORIGIN: 337577.43200 5193552.93500
NATION: US
NATION: "SCIENCE
STATE: MT
NW_QUAD_CORNER_XY: 338071.63800 5193465.60400
NE_QUAD_CORNER_XY: 342834.10200 5193338.52600
SE_QUAD_CORNERY_XY: 342651.65100 5186393.60300
SW_QUAD_CORNER_XY: 337883.65300 5186520.69800
SECONDARY_NW_QUAD_XY: 338066.66000 5193247.19600
SECONDARY_NE_QUAD_XY: 342829.27100 5193120.11400
SECONDARY_SE_QUAD_XY: 342646.82000 5186175.22100
SECONDARY_SW_QUAD_XY: 337878.67600 5186302.32000
RMSE_XY: 3.00000
IMAGE_SOURCE: BLACK AND WHITE FILM
SOURCE_IMAGE_ID: NAPP 8398 187
SOURCE_IMAGE_DATE: 1995 08 28
SOURCE_IMAGE_ID: NAPP 8398 188
SOURCE_IMAGE_DATE: 1995 08 28
SOURCE_DEM_DATE: 1991 00 00
AGENCY: WESTERN MAPPING CENTER (WMC)
PRODUCER: UNDEFINED
PRODUCTION_SYSTEM: GIS/MAGIC
COMPRESSION: UNDEFINED
STANDARD_VERSION: 1996 12
METADATA_DATE: 2000 05 27
DATA_FILE_SIZE: 43182582
BYTE_COUNT: 5622
