FILENAME: O4611317.SWS.1074786.tif
QUADRANGLE_NAME: DAVIS POINT
QUADRANT: SW
WEST_LONGITUDE: -114 0 0.00000
EAST_LONGITUDE: -113 56 15.00000
NORTH_LATITUDE: 46 41 15.00000
SOUTH_LATITUDE: 46 37 30.00000
PRODUCTION_DATE: 2000 3 9
RASTER_ORDER: LEFT_RIGHT/TOP_BOTTOM
BAND_ORGANIZATION: SINGLE FILE
BAND_CONTENT: BLACK&WHITE
BAND_CONTENT: UNDEFINED
BAND_CONTENT: UNDEFINED
BITS_PER_PIXEL: 8
SAMPLES_AND_LINES: 5718 7733
HORIZONTAL_DATUM: NAD83
HORIZONTAL_COORDINATE_SYSTEM: UTM
COORDINATE_ZONE: 12
HORIZONTAL_UNITS: METERS
HORIZONTAL_RESOLUTION: 1.00000
SECONDARY_HORIZONTAL_DATUM: NAD27
XY_ORIGIN: 269965.00000 5175110.00000
SECONDARY_XY_ORIGIN: 270030.23400 5174897.54500
NATION: US
NATION: "SCIENCE
STATE: MT
NW_QUAD_CORNER_XY: 270602.93500 5174809.83400
NE_QUAD_CORNER_XY: 275381.79400 5174629.50200
SE_QUAD_CORNERY_XY: 275122.64000 5167685.04300
SW_QUAD_CORNER_XY: 270338.25700 5167865.39700
SECONDARY_NW_QUAD_XY: 270595.91100 5174591.58600
SECONDARY_NE_QUAD_XY: 275374.91600 5174411.24900
SECONDARY_SE_QUAD_XY: 275115.76300 5167466.82200
SECONDARY_SW_QUAD_XY: 270331.23400 5167647.18200
RMSE_XY: 1.10000
IMAGE_SOURCE: BLACK AND WHITE FILM
SOURCE_IMAGE_ID: NAPP 8389 038
SOURCE_IMAGE_DATE: 1995 07 31
SOURCE_DEM_DATE: 1984 00 00
AGENCY: WESTERN MAPPING CENTER (WMC)
PRODUCER: UNDEFINED
PRODUCTION_SYSTEM: GIS/MAGIC
COMPRESSION: UNDEFINED
STANDARD_VERSION: 1996 12
METADATA_DATE: 2000 05 20
DATA_FILE_SIZE: 44223012
BYTE_COUNT: 5718
