FILENAME: O4611317.NES.1074783.tif
QUADRANGLE_NAME: DAVIS POINT
QUADRANT: NE
WEST_LONGITUDE: -113 56 15.00000
EAST_LONGITUDE: -113 52 30.00000
NORTH_LATITUDE: 46 45 0.00000
SOUTH_LATITUDE: 46 41 15.00000
PRODUCTION_DATE: 2000 3 9
RASTER_ORDER: LEFT_RIGHT/TOP_BOTTOM
BAND_ORGANIZATION: SINGLE FILE
BAND_CONTENT: BLACK&WHITE
BAND_CONTENT: UNDEFINED
BAND_CONTENT: UNDEFINED
BITS_PER_PIXEL: 8
SAMPLES_AND_LINES: 5708 7730
HORIZONTAL_DATUM: NAD83
HORIZONTAL_COORDINATE_SYSTEM: UTM
COORDINATE_ZONE: 12
HORIZONTAL_UNITS: METERS
HORIZONTAL_RESOLUTION: 1.00000
SECONDARY_HORIZONTAL_DATUM: NAD27
XY_ORIGIN: 275008.00000 5181875.00000
SECONDARY_XY_ORIGIN: 275073.22600 5181662.45000
NATION: US
NATION: "SCIENCE
STATE: MT
NW_QUAD_CORNER_XY: 275641.21800 5181574.01800
NE_QUAD_CORNER_XY: 280414.56400 5181397.51100
SE_QUAD_CORNERY_XY: 280160.66900 5174452.97300
SW_QUAD_CORNER_XY: 275381.79400 5174629.50200
SECONDARY_NW_QUAD_XY: 275634.33900 5181355.73200
SECONDARY_NE_QUAD_XY: 280407.83200 5181179.22000
SECONDARY_SE_QUAD_XY: 280153.93700 5174234.71400
SECONDARY_SW_QUAD_XY: 275374.91600 5174411.24900
RMSE_XY: 2.60000
IMAGE_SOURCE: BLACK AND WHITE FILM
SOURCE_IMAGE_ID: NAPP 8389 063
SOURCE_IMAGE_DATE: 1995 07 31
SOURCE_IMAGE_ID: NAPP 8389 041
SOURCE_IMAGE_DATE: 1995 07 31
SOURCE_IMAGE_ID: NAPP 8389 064
SOURCE_IMAGE_DATE: 1995 07 31
SOURCE_IMAGE_ID: NAPP 8389 062
SOURCE_IMAGE_DATE: 1995 07 31
SOURCE_DEM_DATE: 1984 00 00
AGENCY: WESTERN MAPPING CENTER (WMC)
PRODUCER: UNDEFINED
PRODUCTION_SYSTEM: GIS/MAGIC
COMPRESSION: UNDEFINED
STANDARD_VERSION: 1996 12
METADATA_DATE: 2000 05 20
DATA_FILE_SIZE: 44128548
BYTE_COUNT: 5708
