FILENAME: O4611318.SWS.1074810.tif
QUADRANGLE_NAME: ELK MOUNTAIN
QUADRANT: SW
WEST_LONGITUDE: -113 52 30.00000
EAST_LONGITUDE: -113 48 45.00000
NORTH_LATITUDE: 46 41 15.00000
SOUTH_LATITUDE: 46 37 30.00000
PRODUCTION_DATE: 2000 4 14
RASTER_ORDER: LEFT_RIGHT/TOP_BOTTOM
BAND_ORGANIZATION: SINGLE FILE
BAND_CONTENT: BLACK&WHITE
BAND_CONTENT: UNDEFINED
BAND_CONTENT: UNDEFINED
BITS_PER_PIXEL: 8
SAMPLES_AND_LINES: 5707 7726
HORIZONTAL_DATUM: NAD83
HORIZONTAL_COORDINATE_SYSTEM: UTM
COORDINATE_ZONE: 12
HORIZONTAL_UNITS: METERS
HORIZONTAL_RESOLUTION: 1.00000
SECONDARY_HORIZONTAL_DATUM: NAD27
XY_ORIGIN: 279534.00000 5174753.00000
SECONDARY_XY_ORIGIN: 279599.11300 5174540.51300
NATION: US
NATION: "SCIENCE
STATE: MT
NW_QUAD_CORNER_XY: 280160.66900 5174452.97300
NE_QUAD_CORNER_XY: 284939.55900 5174280.24500
SE_QUAD_CORNERY_XY: 284691.44900 5167335.74200
SW_QUAD_CORNER_XY: 279907.03700 5167508.49100
SECONDARY_NW_QUAD_XY: 280153.93700 5174234.71400
SECONDARY_NE_QUAD_XY: 284932.97400 5174061.98100
SECONDARY_SE_QUAD_XY: 284684.86500 5167117.51100
SECONDARY_SW_QUAD_XY: 279900.30600 5167290.26500
RMSE_XY: 1.80000
IMAGE_SOURCE: BLACK AND WHITE FILM
SOURCE_IMAGE_ID: NAPP 8393 012
SOURCE_IMAGE_DATE: 1995 08 19
SOURCE_IMAGE_ID: NAPP 8389 066
SOURCE_IMAGE_DATE: 1995 07 31
SOURCE_IMAGE_ID: NAPP 8393 013
SOURCE_IMAGE_DATE: 1995 08 19
SOURCE_IMAGE_ID: NAPP 8393 011
SOURCE_IMAGE_DATE: 1995 08 19
SOURCE_DEM_DATE: 1989 00 00
AGENCY: WESTERN MAPPING CENTER (WMC)
PRODUCER: UNDEFINED
PRODUCTION_SYSTEM: GIS/MAGIC
COMPRESSION: UNDEFINED
STANDARD_VERSION: 1996 12
METADATA_DATE: 2000 05 25
DATA_FILE_SIZE: 44097989
BYTE_COUNT: 5707
