FILENAME: O4611319.NWS.1074832.tif
QUADRANGLE_NAME: IRIS POINT
QUADRANT: NW
WEST_LONGITUDE: -113 45 0.00000
EAST_LONGITUDE: -113 41 15.00000
NORTH_LATITUDE: 46 45 0.00000
SOUTH_LATITUDE: 46 41 15.00000
PRODUCTION_DATE: 2000 4 25
RASTER_ORDER: LEFT_RIGHT/TOP_BOTTOM
BAND_ORGANIZATION: SINGLE FILE
BAND_CONTENT: BLACK&WHITE
BAND_CONTENT: UNDEFINED
BAND_CONTENT: UNDEFINED
BITS_PER_PIXEL: 8
SAMPLES_AND_LINES: 5690 7718
HORIZONTAL_DATUM: NAD83
HORIZONTAL_COORDINATE_SYSTEM: UTM
COORDINATE_ZONE: 12
HORIZONTAL_UNITS: METERS
HORIZONTAL_RESOLUTION: 1.00000
SECONDARY_HORIZONTAL_DATUM: NAD27
XY_ORIGIN: 289346.00000 5181356.00000
SECONDARY_XY_ORIGIN: 289411.00400 5181143.35200
NATION: US
NATION: "SCIENCE
STATE: MT
NW_QUAD_CORNER_XY: 289961.30500 5181055.90300
NE_QUAD_CORNER_XY: 294734.69800 5180890.80000
SE_QUAD_CORNERY_XY: 294497.38400 5173946.19600
SW_QUAD_CORNER_XY: 289718.46500 5174111.32000
SECONDARY_NW_QUAD_XY: 289954.86500 5180837.60200
SECONDARY_NE_QUAD_XY: 294728.40500 5180672.49400
SECONDARY_SE_QUAD_XY: 294491.09200 5173727.92200
SECONDARY_SW_QUAD_XY: 289712.02600 5173893.05100
RMSE_XY: 4.50000
IMAGE_SOURCE: BLACK AND WHITE FILM
SOURCE_IMAGE_ID: NAPP 8393 134
SOURCE_IMAGE_DATE: 1995 08 19
SOURCE_IMAGE_ID: NAPP 8389 162
SOURCE_IMAGE_DATE: 1995 07 31
SOURCE_IMAGE_ID: NAPP 8389 161
SOURCE_IMAGE_DATE: 1995 07 31
SOURCE_IMAGE_ID: NAPP 8389 160
SOURCE_IMAGE_DATE: 1995 07 31
SOURCE_IMAGE_ID: NAPP 8389 141
SOURCE_IMAGE_DATE: 1995 07 31
SOURCE_DEM_DATE: 1997 00 00
AGENCY: WESTERN MAPPING CENTER (WMC)
PRODUCER: UNDEFINED
PRODUCTION_SYSTEM: GIS/MAGIC
COMPRESSION: UNDEFINED
STANDARD_VERSION: 1996 12
METADATA_DATE: 2000 05 25
DATA_FILE_SIZE: 43921110
BYTE_COUNT: 5690
