FILENAME: O4611321.NES.1074879.tif
QUADRANGLE_NAME: MEDICINE TREE HILL
QUADRANT: NE
WEST_LONGITUDE: -113 26 15.00000
EAST_LONGITUDE: -113 22 30.00000
NORTH_LATITUDE: 46 45 0.00000
SOUTH_LATITUDE: 46 41 15.00000
PRODUCTION_DATE: 2000 4 27
RASTER_ORDER: LEFT_RIGHT/TOP_BOTTOM
BAND_ORGANIZATION: SINGLE FILE
BAND_CONTENT: BLACK&WHITE
BAND_CONTENT: UNDEFINED
BAND_CONTENT: UNDEFINED
BITS_PER_PIXEL: 8
SAMPLES_AND_LINES: 5661 7700
HORIZONTAL_DATUM: NAD83
HORIZONTAL_COORDINATE_SYSTEM: UTM
COORDINATE_ZONE: 12
HORIZONTAL_UNITS: METERS
HORIZONTAL_RESOLUTION: 1.00000
SECONDARY_HORIZONTAL_DATUM: NAD27
XY_ORIGIN: 313242.00000 5180569.00000
SECONDARY_XY_ORIGIN: 313306.47500 5180356.32800
NATION: US
NATION: "SCIENCE
STATE: MT
NW_QUAD_CORNER_XY: 313828.41600 5180268.39100
NE_QUAD_CORNER_XY: 318601.88000 5180122.28700
SE_QUAD_CORNERY_XY: 318392.19200 5173177.58300
SW_QUAD_CORNER_XY: 313613.20400 5173323.70600
SECONDARY_NW_QUAD_XY: 313822.70800 5180050.06500
SECONDARY_NE_QUAD_XY: 318596.31800 5179903.95700
SECONDARY_SE_QUAD_XY: 318386.63100 5172959.28600
SECONDARY_SW_QUAD_XY: 313607.49600 5173105.41300
RMSE_XY: 1.20000
IMAGE_SOURCE: BLACK AND WHITE FILM
SOURCE_IMAGE_ID: NAPP 8390 056
SOURCE_IMAGE_DATE: 1995 07 31
SOURCE_IMAGE_ID: NAPP 8390 075
SOURCE_IMAGE_DATE: 1995 07 31
SOURCE_IMAGE_ID: NAPP 8390 074
SOURCE_IMAGE_DATE: 1995 07 31
SOURCE_IMAGE_ID: NAPP 8390 073
SOURCE_IMAGE_DATE: 1995 07 31
SOURCE_IMAGE_ID: NAPP 8390 017
SOURCE_IMAGE_DATE: 1995 07 31
SOURCE_DEM_DATE: 1989 00 00
AGENCY: WESTERN MAPPING CENTER (WMC)
PRODUCER: UNDEFINED
PRODUCTION_SYSTEM: GIS/MAGIC
COMPRESSION: UNDEFINED
STANDARD_VERSION: 1996 12
METADATA_DATE: 2000 05 25
DATA_FILE_SIZE: 43595361
BYTE_COUNT: 5661
