FILENAME: O4611322.NWS.1077009.tif
QUADRANGLE_NAME: BEARMOUTH
QUADRANT: NW
WEST_LONGITUDE: -113 22 30.00000
EAST_LONGITUDE: -113 18 45.00000
NORTH_LATITUDE: 46 45 0.00000
SOUTH_LATITUDE: 46 41 15.00000
PRODUCTION_DATE: 2000 5 1
RASTER_ORDER: LEFT_RIGHT/TOP_BOTTOM
BAND_ORGANIZATION: SINGLE FILE
BAND_CONTENT: BLACK&WHITE
BAND_CONTENT: UNDEFINED
BAND_CONTENT: UNDEFINED
BITS_PER_PIXEL: 8
SAMPLES_AND_LINES: 5656 7696
HORIZONTAL_DATUM: NAD83
HORIZONTAL_COORDINATE_SYSTEM: UTM
COORDINATE_ZONE: 12
HORIZONTAL_UNITS: METERS
HORIZONTAL_RESOLUTION: 1.00000
SECONDARY_HORIZONTAL_DATUM: NAD27
XY_ORIGIN: 318021.00000 5180423.00000
SECONDARY_XY_ORIGIN: 318085.33100 5180210.32800
NATION: US
NATION: "SCIENCE
STATE: MT
NW_QUAD_CORNER_XY: 318601.88000 5180122.28700
NE_QUAD_CORNER_XY: 323375.35700 5179979.98300
SE_QUAD_CORNERY_XY: 323171.19200 5173035.26000
SW_QUAD_CORNER_XY: 318392.19200 5173177.58300
SECONDARY_NW_QUAD_XY: 318596.31800 5179903.95700
SECONDARY_NE_QUAD_XY: 323369.94200 5179761.64800
SECONDARY_SE_QUAD_XY: 323165.77800 5172816.95800
SECONDARY_SW_QUAD_XY: 318386.63100 5172959.28600
RMSE_XY: 1.50000
IMAGE_SOURCE: BLACK AND WHITE FILM
SOURCE_IMAGE_ID: NAPP 8390 055
SOURCE_IMAGE_DATE: 1995 07 31
SOURCE_IMAGE_ID: NAPP 8390 054
SOURCE_IMAGE_DATE: 1995 07 31
SOURCE_IMAGE_ID: NAPP 8390 056
SOURCE_IMAGE_DATE: 1995 07 31
SOURCE_DEM_DATE: 1988 00 00
AGENCY: WESTERN MAPPING CENTER (WMC)
PRODUCER: UNDEFINED
PRODUCTION_SYSTEM: GIS/MAGIC
COMPRESSION: UNDEFINED
STANDARD_VERSION: 1996 12
METADATA_DATE: 2000 05 30
DATA_FILE_SIZE: 43534232
BYTE_COUNT: 5656
