FILENAME: O4611325.NWS.1074764.tif
QUADRANGLE_NAME: GRAYHORSE CREEK
QUADRANT: NW
WEST_LONGITUDE: -114 0 0.00000
EAST_LONGITUDE: -113 56 15.00000
NORTH_LATITUDE: 46 37 30.00000
SOUTH_LATITUDE: 46 33 45.00000
PRODUCTION_DATE: 2000 3 9
RASTER_ORDER: LEFT_RIGHT/TOP_BOTTOM
BAND_ORGANIZATION: SINGLE FILE
BAND_CONTENT: BLACK&WHITE
BAND_CONTENT: UNDEFINED
BAND_CONTENT: UNDEFINED
BITS_PER_PIXEL: 8
SAMPLES_AND_LINES: 5724 7734
HORIZONTAL_DATUM: NAD83
HORIZONTAL_COORDINATE_SYSTEM: UTM
COORDINATE_ZONE: 12
HORIZONTAL_UNITS: METERS
HORIZONTAL_RESOLUTION: 1.00000
SECONDARY_HORIZONTAL_DATUM: NAD27
XY_ORIGIN: 269700.00000 5168166.00000
SECONDARY_XY_ORIGIN: 269765.16600 5167953.60800
NATION: US
NATION: "SCIENCE
STATE: MT
NW_QUAD_CORNER_XY: 270338.25700 5167865.39700
NE_QUAD_CORNER_XY: 275122.64000 5167685.04300
SE_QUAD_CORNERY_XY: 274863.75400 5160740.64000
SW_QUAD_CORNER_XY: 270073.85400 5160921.01600
SECONDARY_NW_QUAD_XY: 270331.23400 5167647.18200
SECONDARY_NE_QUAD_XY: 275115.76300 5167466.82200
SECONDARY_SE_QUAD_XY: 274856.87800 5160522.45300
SECONDARY_SW_QUAD_XY: 270066.83200 5160702.83500
RMSE_XY: 0.80000
IMAGE_SOURCE: BLACK AND WHITE FILM
SOURCE_IMAGE_ID: NAPP 8389 036
SOURCE_IMAGE_DATE: 1995 07 31
SOURCE_IMAGE_ID: NAPP 8389 035
SOURCE_IMAGE_DATE: 1995 07 31
SOURCE_DEM_DATE: 1984 00 00
AGENCY: WESTERN MAPPING CENTER (WMC)
PRODUCER: UNDEFINED
PRODUCTION_SYSTEM: GIS/MAGIC
COMPRESSION: UNDEFINED
STANDARD_VERSION: 1996 12
METADATA_DATE: 2000 05 20
DATA_FILE_SIZE: 44275140
BYTE_COUNT: 5724
